BEGIN:VCALENDAR
VERSION:2.0
PRODID:-//ChamberMaster//Event Calendar 2.0//EN
METHOD:PUBLISH
X-PUBLISHED-TTL:P3D
REFRESH-INTERVAL:P3D
CALSCALE:GREGORIAN
BEGIN:VEVENT
DTSTART:20251205T013000Z
DTEND:20251205T040000Z
X-MICROSOFT-CDO-ALLDAYEVENT:FALSE
SUMMARY:15th Annual Community In Unity
DESCRIPTION:Join us for our 15th Annual Community in Unity as we return to the City Hall Rotunda for this annual kick-off to the Holiday Season. The evening's festivities will include a variety of local restaurants\, breweries\, and wineries showcasing their epicurean delights\, savory dishes\, sweet desserts\, and libations for everyone to enjoy. Holiday entertainment from local choirs provides a truly joyful atmosphere\, and guests are encouraged to bring NEW pajamas and toys to help spread some holiday cheer!\n\nPajama Drive: Please bring NEW\, unused Pajamas of ALL sizes to benefit the children and teens at Solutions For Change.\n\nToy Drive: Please bring NEW\, unwrapped toys for both boys & girls ages 4-12\, to benefit the Escondido Police Athletic League.\n\n\n\nSponsorship Opportunities:\n\nTitle Sponsor- $1\,000 The title sponsor will be promoted on all event postings\, as well as showcased on the evening?s banner. Your business will also be called upon during the night to speak about your business.\n\nOrnament Sponsor- $500 The Ornament Sponsor for $500 offers your business visibility during the night with an oversized Christmas ornament hung around the rotunda\n\nBundle Ticket Holder- 10 tickets for $350.00
X-ALT-DESC;FMTTYPE=text/html:<p style="box-sizing: border-box\; margin: 0px 0px 10px\; color: rgb(57\, 63\, 66)\; font-family: Montserrat\, sans-serif\; font-size: 16px\;">Join us for our&nbsp\;<em style="box-sizing: border-box\;"><strong style="box-sizing: border-box\;">15th Annual Community in Unity</strong></em>&nbsp\;as we return to the City Hall Rotunda for this annual kick-off to the Holiday Season. The evening&#39\;s festivities will include a variety of local restaurants\, breweries\, and wineries showcasing their epicurean delights\, savory dishes\, sweet desserts\, and libations for everyone to enjoy. Holiday entertainment from local choirs provides a truly joyful atmosphere\, and guests are encouraged to bring NEW pajamas and toys to help spread some holiday cheer!</p>\n\n<p style="box-sizing: border-box\; margin: 0px 0px 10px\; color: rgb(57\, 63\, 66)\; font-family: Montserrat\, sans-serif\; font-size: 16px\;"><strong style="box-sizing: border-box\;">Pajama Drive</strong>: Please bring NEW\, unused Pajamas of ALL sizes to benefit the children and teens at&nbsp\;<em style="box-sizing: border-box\;">Solutions For Change</em>.</p>\n\n<p style="box-sizing: border-box\; margin: 0px 0px 10px\; color: rgb(57\, 63\, 66)\; font-family: Montserrat\, sans-serif\; font-size: 16px\;"><strong style="box-sizing: border-box\;">Toy Drive</strong>: Please bring NEW\, unwrapped toys for both boys &amp\; girls ages 4-12\, to benefit the Escondido Police Athletic League.<br />\n<br />\n<span style="color:#FF0000\;"><strong>Sponsorship Opportunities:</strong></span><br />\n<span style="font-family:arial\;"><span style="color:#FF0000\;"><strong>Title Sponsor- $1\,000&nbsp\;</strong></span><strong><span id="docs-internal-guid-0a8d8038-7fff-02c8-96f2-a2b58cc8c1da"><span style="font-size: 11.5pt\; background-color: rgb(255\, 255\, 255)\; font-variant-numeric: normal\; font-variant-east-asian: normal\; font-variant-alternates: normal\; font-variant-position: normal\; font-variant-emoji: normal\; vertical-align: baseline\; white-space-collapse: preserve\;">The title sponsor will be promoted on all event postings\, as well as showcased on the evening?s banner. Your business will also be called upon during the night to speak about your business.</span></span></strong><br />\n<span style="color:#FF0000\;"><strong>Ornament Sponsor- $500&nbsp\;</strong></span><strong><span id="docs-internal-guid-e803b9b3-7fff-5252-b312-158b5144e51c"><span style="font-size: 11.5pt\; background-color: rgb(255\, 255\, 255)\; font-variant-numeric: normal\; font-variant-east-asian: normal\; font-variant-alternates: normal\; font-variant-position: normal\; font-variant-emoji: normal\; vertical-align: baseline\; white-space-collapse: preserve\;">The Ornament Sponsor for $500 offers your business visibility during the night with an oversized Christmas ornament hung around the rotunda</span></span></strong><br />\n<span style="color:#FF0000\;"><strong>Bundle Ticket Holder- </strong></span><strong>10 tickets for $350.00</strong></span></p>\n
LOCATION:Escondido City Hall 201 N. Broadway Escondido\, CA 92025
UID:e.799.9473
SEQUENCE:3
DTSTAMP:20260422T085504Z
URL:https://business.escondidochamber.org/events/details/15th-annual-community-in-unity-9473
END:VEVENT

END:VCALENDAR
