BEGIN:VCALENDAR
VERSION:2.0
PRODID:-//ChamberMaster//Event Calendar 2.0//EN
METHOD:PUBLISH
X-PUBLISHED-TTL:P3D
REFRESH-INTERVAL:P3D
CALSCALE:GREGORIAN
BEGIN:VEVENT
DTSTART:20240913T133000Z
DTEND:20240913T210000Z
X-MICROSOFT-CDO-ALLDAYEVENT:FALSE
SUMMARY:4th Annual Chamber Cup Challenge Golf Tournament
DESCRIPTION:Join the Escondido Chamber of Commerce as we host our 4th Annual Chamber Challenge Golf Tournament on Friday\, September 13th. It is going to be at a familiar venue again this year - The Vineyard at Escondido - and we're proud to raise money for the PAL and Rising Stars programs again this year! \n\n\n\nWe will also have an EARLY starting time like last year\, with Registration starting @ 6:30am\, and a SHOTGUN start promptly at 7:30am...so please plan accordingly\, and get ready for an awesome day of golf\, friends\, food\, and making a difference in our community!\n\n\n\nYour contribution through sponsorship\, participation\, and donations for the raffle and silent auction is greatly appreciated.
X-ALT-DESC;FMTTYPE=text/html:<span style="font-size:16px\;"><span style="font-family:verdana\;"><span style="letter-spacing:.15pt\;background:white\;"><span style="color:#3C4043\;">Join the </span></span><strong style="box-sizing:border-box\;white-space:pre-wrap\;"><span style="box-sizing:border-box\;font-variant-ligatures:normal\;font-variant-caps:normal\;orphans:2\;text-align:start\;widows:2\;-webkit-text-stroke-width:0px\;text-decoration-thickness:initial\;text-decoration-style:initial\;word-spacing:0px\;">Escondido Chamber of Commerce</span></strong><span style="letter-spacing:.15pt\;background:white\;"><span style="color:#3C4043\;"><span style="box-sizing:border-box\;white-space:pre-wrap\;"><span style="box-sizing:border-box\;font-variant-ligatures:normal\;font-variant-caps:normal\;orphans:2\;text-align:start\;widows:2\;-webkit-text-stroke-width:0px\;text-decoration-thickness:initial\;text-decoration-style:initial\;word-spacing:0px\;">&nbsp\;as we host our 4th Annual Chamber Challenge Golf Tournament on Friday\, September 13th. It is going to be at a&nbsp\;familiar venue again this year -&nbsp\;</span></span><span style="box-sizing:border-box\;"><em style="box-sizing:border-box\;white-space:pre-wrap\;"><strong><span style="letter-spacing:.15pt\;background:white\;"><span style="color:#3C4043\;">The Vineyard at Escondido</span></span></strong></em></span><span style="box-sizing:border-box\;white-space:pre-wrap\;"><span style="letter-spacing:.15pt\;background:white\;"><span style="color:#3C4043\;">&nbsp\;- and we&#39\;re proud to raise money for the PAL and Rising Stars programs</span></span></span><span style="letter-spacing:.15pt\;background:white\;"><span style="color:#3C4043\;"> again this year!&nbsp\;</span></span></span></span><br style="box-sizing:border-box\;white-space:pre-wrap\;" />\n<br style="box-sizing:border-box\;white-space:pre-wrap\;" />\n<span style="letter-spacing:.15pt\;background:white\;"><span style="color:#3C4043\;"><span style="box-sizing:border-box\;white-space:pre-wrap\;">We will also have an&nbsp\;</span></span></span><strong style="box-sizing:border-box\;white-space:pre-wrap\;"><span style="letter-spacing:.15pt\;background:white\;"><span style="color:#3C4043\;">EARLY</span></span></strong><span style="letter-spacing:.15pt\;background:white\;"><span style="color:#3C4043\;">&nbsp\;starting time like last year\, with Registration starting @ 6:30am\, and a SHOTGUN start promptly at 7:30am...so please plan accordingly\, and get ready for an awesome day of golf\, friends\, food\, and making a difference in our community!</span></span><br style="box-sizing:border-box\;white-space:pre-wrap\;" />\n<br style="box-sizing:border-box\;white-space:pre-wrap\;" />\n<span style="letter-spacing:.15pt\;background:white\;"><span style="color:#3C4043\;"><span style="box-sizing:border-box\;white-space:pre-wrap\;">Your contribution through sponsorship\, participation\, and donations for the raffle and silent auction is greatly appreciated.</span></span></span></span></span><br />\n&nbsp\;
LOCATION:The Vineyard @ Escondido 925 San Pasqual Road Escondido\, CA 92025
UID:e.799.8205
SEQUENCE:3
DTSTAMP:20260421T204508Z
URL:https://business.escondidochamber.org/events/details/4th-annual-chamber-cup-challenge-golf-tournament-8205
END:VEVENT

END:VCALENDAR
