BEGIN:VCALENDAR
VERSION:2.0
PRODID:-//ChamberMaster//Event Calendar 2.0//EN
METHOD:PUBLISH
X-PUBLISHED-TTL:P3D
REFRESH-INTERVAL:P3D
CALSCALE:GREGORIAN
BEGIN:VEVENT
DTSTART:20241125T233000Z
DTEND:20241126T010000Z
X-MICROSOFT-CDO-ALLDAYEVENT:FALSE
SUMMARY:Board of Directors Meeting
DESCRIPTION:Monthly Board of Directors meeting.
X-ALT-DESC;FMTTYPE=text/html:Monthly Board of Directors meeting.
LOCATION:Escondido Chamber of Commerce Conference Room 720 N. Broadway Escondido\, CA 92025 760-745-2125
UID:e.799.8589
SEQUENCE:3
DTSTAMP:20260422T002432Z
URL:https://business.escondidochamber.org/events/details/board-of-directors-meeting-11-25-2024-8589
END:VEVENT

END:VCALENDAR
