BEGIN:VCALENDAR
VERSION:2.0
PRODID:-//ChamberMaster//Event Calendar 2.0//EN
METHOD:PUBLISH
X-PUBLISHED-TTL:P3D
REFRESH-INTERVAL:P3D
CALSCALE:GREGORIAN
BEGIN:VEVENT
DTSTART:20250411T000000Z
DTEND:20250411T020000Z
X-MICROSOFT-CDO-ALLDAYEVENT:FALSE
SUMMARY:Business After 5 Mixer /McLeod Mortuary
DESCRIPTION:The Chamber's Business After 5 Mixer is a social/networking event. It gives you the chance to visit a host business and network with other Chamber members\, along with business and community leaders. At Business After 5\, you will have the chance to introduce yourself to other members\, exchange business cards\, make new business contacts\, win a door prize and enjoy a cocktail and hors d'oeuvres.\n\n\n\nThis month:\n\nJoin us for a vibrant networking mixer with chamber member McLeod Mortuary. Come and learn more about services offered.  \n\n	Flexible event space\n	Facility is available to host your personal events\n	\n	Celebration of Life center\n	Facility is designed for personalized funeral celebrations\n	\n	Modern funeral home\n	Flexible chapel space\n	Our chapel can be used for hosting your religious events\n	\n	Chapel\n\n\n\n*Enjoy light bites and beverages \n\n\n\n\n\n*Raffle Prizes:\n\nEnter to win exciting prizes
X-ALT-DESC;FMTTYPE=text/html:<span style="font-size: 16px\;"><span style="font-family: arial\;">The Chamber&#39\;s Business After 5 Mixer is a social/networking event. It gives you the chance to visit a host business and network with other Chamber members\, along with business and community leaders. At Business After 5\, you will have the chance to introduce yourself to other members\, exchange business cards\, make new business contacts\, win a door prize and enjoy a cocktail and hors d&rsquo\;oeuvres.</span></span><br />\n<br style="bottom: auto\; box-sizing: content-box\; clear: none\; color: rgb(68\, 68\, 68)\; content: normal\; direction: inherit\; display: inline\; empty-cells: show\; float: none\; font-variant-numeric: inherit\; font-variant-east-asian: inherit\; font-stretch: inherit\; font-size: 14px\; font-family: Arial\, Helvetica\, sans-serif\; left: auto\; line-height: inherit\; margin: 0px\; max-height: none\; max-width: none\; min-height: initial\; min-width: initial\; opacity: 1\; outline-offset: 0px\; overflow: visible\; padding: 0px\; position: static\; resize: none\; right: auto\; table-layout: auto\; text-overflow: clip\; top: auto\; vertical-align: baseline\; visibility: inherit\; word-break: inherit\; overflow-wrap: inherit\; z-index: auto\; background-image: none\; background-position: initial\; background-size: initial\; background-repeat: initial\; background-attachment: initial\; background-origin: initial\; background-clip: initial\; border: none\; border-collapse: separate\; border-radius: 0px\; height: auto\; width: auto\;" />\n<span style="bottom: auto\; box-sizing: content-box\; clear: none\; color: rgb(68\, 68\, 68)\; content: normal\; direction: inherit\; empty-cells: show\; font-variant-numeric: inherit\; font-variant-east-asian: inherit\; font-weight: bolder\; font-stretch: inherit\; font-size: 14px\; font-family: Arial\, Helvetica\, sans-serif\; left: auto\; line-height: inherit\; margin: 0px\; max-height: none\; max-width: none\; min-height: initial\; min-width: initial\; opacity: 1\; outline-offset: 0px\; overflow: visible\; padding: 0px\; position: static\; resize: none\; right: auto\; table-layout: auto\; text-overflow: clip\; top: auto\; vertical-align: baseline\; visibility: inherit\; word-break: inherit\; overflow-wrap: inherit\; z-index: auto\; background-image: none\; background-position: initial\; background-size: initial\; background-repeat: initial\; background-attachment: initial\; background-origin: initial\; background-clip: initial\; border: none\; border-collapse: separate\; border-radius: 0px\; height: auto\; width: auto\; box-shadow: none\;"><span style="bottom: auto\; box-sizing: content-box\; clear: none\; color: inherit\; content: normal\; direction: inherit\; empty-cells: show\; font-style: inherit\; font-variant: inherit\; font-weight: inherit\; font-stretch: inherit\; font-size: 16px\; font-family: inherit\; left: auto\; letter-spacing: inherit\; line-height: inherit\; margin: 0px\; max-height: none\; max-width: none\; min-height: initial\; min-width: initial\; opacity: 1\; outline-offset: 0px\; overflow: visible\; padding: 0px\; position: static\; resize: none\; right: auto\; table-layout: auto\; text-align: inherit\; text-indent: inherit\; text-overflow: clip\; text-transform: inherit\; top: auto\; vertical-align: baseline\; visibility: inherit\; white-space: inherit\; word-break: inherit\; word-spacing: inherit\; overflow-wrap: inherit\; z-index: auto\; background: none\; border: none\; border-collapse: separate\; border-radius: 0px\; height: auto\; width: auto\; box-shadow: none\;"><span style="bottom: auto\; box-sizing: content-box\; clear: none\; color: inherit\; content: normal\; direction: inherit\; empty-cells: show\; font-style: inherit\; font-variant: inherit\; font-weight: inherit\; font-stretch: inherit\; font-size: inherit\; font-family: verdana\; left: auto\; letter-spacing: inherit\; line-height: inherit\; margin: 0px\; max-height: none\; max-width: none\; min-height: initial\; min-width: initial\; opacity: 1\; outline-offset: 0px\; overflow: visible\; padding: 0px\; position: static\; resize: none\; right: auto\; table-layout: auto\; text-align: inherit\; text-indent: inherit\; text-overflow: clip\; text-transform: inherit\; top: auto\; vertical-align: baseline\; visibility: inherit\; white-space: inherit\; word-break: inherit\; word-spacing: inherit\; overflow-wrap: inherit\; z-index: auto\; background: none\; border: none\; border-collapse: separate\; border-radius: 0px\; height: auto\; width: auto\; box-shadow: none\;">This month:</span></span></span><br />\n<span style="font-size:18px\;"><span style="font-family:verdana\;"><span style="color: rgb(34\, 34\, 34)\; background-color: rgb(255\, 255\, 255)\;">Join us for a vibrant networking mixer with chamber member McLeod Mortuary. Come and learn more about services offered.&nbsp\;&nbsp\;</span></span></span>\n<ul style="box-sizing: border-box\; margin-top: 0px\; margin-bottom: 10px\; padding: 0px\; margin-left: 20px\; columns: unset\; color: rgb(74\, 60\, 49)\; font-family: Lato\, Arial\, Helvetica\, &quot\;Lucida Grande&quot\;\, sans-serif\; font-size: 16px\; background-color: rgb(255\, 255\, 255)\;">\n	<li style="box-sizing: border-box\; margin-bottom: 20px\; font-family: Lato-Bold\, Arial\, Helvetica\, &quot\;Lucida Grande&quot\;\, sans-serif\; break-inside: avoid-column\; padding-right: 30px\;">Flexible event space\n	<div class="amenity-tip" style="box-sizing: border-box\; color: rgb(96\, 95\, 94)\; font-family: Lato\, Arial\, Helvetica\, &quot\;Lucida Grande&quot\;\, sans-serif\;">Facility is available to host your personal events</div>\n	</li>\n	<li style="box-sizing: border-box\; margin-bottom: 20px\; font-family: Lato-Bold\, Arial\, Helvetica\, &quot\;Lucida Grande&quot\;\, sans-serif\; break-inside: avoid-column\; padding-right: 30px\;">Celebration of Life center\n	<div class="amenity-tip" style="box-sizing: border-box\; color: rgb(96\, 95\, 94)\; font-family: Lato\, Arial\, Helvetica\, &quot\;Lucida Grande&quot\;\, sans-serif\;">Facility is designed for personalized funeral celebrations</div>\n	</li>\n	<li style="box-sizing: border-box\; margin-bottom: 20px\; font-family: Lato-Bold\, Arial\, Helvetica\, &quot\;Lucida Grande&quot\;\, sans-serif\; break-inside: avoid-column\; padding-right: 30px\;">Modern funeral home</li>\n	<li style="box-sizing: border-box\; margin-bottom: 20px\; font-family: Lato-Bold\, Arial\, Helvetica\, &quot\;Lucida Grande&quot\;\, sans-serif\; break-inside: avoid-column\; padding-right: 30px\;">Flexible chapel space\n	<div class="amenity-tip" style="box-sizing: border-box\; color: rgb(96\, 95\, 94)\; font-family: Lato\, Arial\, Helvetica\, &quot\;Lucida Grande&quot\;\, sans-serif\;">Our chapel can be used for hosting your religious events</div>\n	</li>\n	<li style="box-sizing: border-box\; margin-bottom: 20px\; font-family: Lato-Bold\, Arial\, Helvetica\, &quot\;Lucida Grande&quot\;\, sans-serif\; break-inside: avoid-column\; padding-right: 30px\;">Chapel</li>\n</ul>\n<br />\n<strong><span style="font-family:verdana\;"><span style="font-size:18px\;"><span style="color: rgb(34\, 34\, 34)\; background-color: rgb(255\, 255\, 255)\;">*</span></span></span><span style="color: rgb(34\, 34\, 34)\; font-family: verdana\; font-size: 18px\; background-color: rgb(255\, 255\, 255)\;">Enjoy light bites and beverages&nbsp\;</span></strong><br style="color: rgb(34\, 34\, 34)\; font-family: Arial\, Helvetica\, sans-serif\; font-size: small\; background-color: rgb(255\, 255\, 255)\;" />\n<br style="color: rgb(34\, 34\, 34)\; font-family: Arial\, Helvetica\, sans-serif\; font-size: small\; background-color: rgb(255\, 255\, 255)\;" />\n<br style="color: rgb(34\, 34\, 34)\; font-family: Arial\, Helvetica\, sans-serif\; font-size: small\; background-color: rgb(255\, 255\, 255)\;" />\n<span style="font-family:verdana\;"><span style="font-size:18px\;"><strong><span style="color: rgb(34\, 34\, 34)\; background-color: rgb(255\, 255\, 255)\;">*Raffle Prizes:</span></strong><br style="color: rgb(34\, 34\, 34)\; font-family: Arial\, Helvetica\, sans-serif\; font-size: small\; background-color: rgb(255\, 255\, 255)\;" />\n<span style="color: rgb(34\, 34\, 34)\; background-color: rgb(255\, 255\, 255)\;">Enter to win exciting prizes</span></span></span><br />\n&nbsp\;
LOCATION:McLeod Mortuary 1919 E Valley Pkwy Escondido\, CA 92027
UID:e.799.9133
SEQUENCE:3
DTSTAMP:20260424T104119Z
URL:https://business.escondidochamber.org/events/details/business-after-5-mixer-mcleod-mortuary-9133
END:VEVENT

END:VCALENDAR
