BEGIN:VCALENDAR
VERSION:2.0
PRODID:-//ChamberMaster//Event Calendar 2.0//EN
METHOD:PUBLISH
X-PUBLISHED-TTL:P3D
REFRESH-INTERVAL:P3D
CALSCALE:GREGORIAN
BEGIN:VEVENT
DTSTART:20241018T000000Z
DTEND:20241018T020000Z
X-MICROSOFT-CDO-ALLDAYEVENT:FALSE
SUMMARY:Business After 5 Mixer: Open House @ Neighborhood Health Care
DESCRIPTION:The Chamber's Business After 5 Mixer is a social/networking event that gives you the chance to visit a host business and network with other Chamber members\, along with business and community leaders. At Business After 5\, you will have the chance to introduce yourself to other members\, exchange business cards\, make new business contacts\, win a door prize and enjoy a cocktail and hors d?oeuvres.\n\n\n\nThis month: Join the Escondido Chamber of Commerce and host Neighborhood Health Care for their Open House. Enjoy an evening of networking and guided tours of their newest location. \n\n\n\nAt Neighborhood Health Care\, community health is about more than just vaccines and checkups. It's about giving people the resources they need to live their best lives. At Neighborhood\, this is our vision. A community where everyone is healthy and happy. We're with you every step of the way\, with the care you need for each of life's chapters. At Neighborhood\, we are Better Together. \n\n\n\nPlease RSVP to ensure food and parking availability.
X-ALT-DESC;FMTTYPE=text/html:<span style="font-size: 16px\;"><span style="font-family: arial\;">The Chamber&#39\;s&nbsp\;<em>Business After 5 Mixer</em>&nbsp\;is a social/networking event that gives you the chance to visit a host business and network with other Chamber members\, along with business and community leaders. At&nbsp\;<em>Business After 5</em>\, you will have the chance to introduce yourself to other members\, exchange business cards\, make new business contacts\, win a door prize and enjoy a cocktail and hors d?oeuvres.</span></span><br />\n<br style="inset: auto\; box-sizing: content-box\; clear: none\; color: rgb(68\, 68\, 68)\; content: normal\; direction: inherit\; display: inline\; empty-cells: show\; float: none\; font-variant-numeric: inherit\; font-variant-east-asian: inherit\; font-stretch: inherit\; font-size: 14px\; font-family: Arial\, Helvetica\, sans-serif\; line-height: inherit\; margin: 0px\; max-height: none\; max-width: none\; min-height: initial\; min-width: initial\; opacity: 1\; outline-offset: 0px\; overflow: visible\; padding: 0px\; position: static\; resize: none\; table-layout: auto\; text-overflow: clip\; vertical-align: baseline\; visibility: inherit\; word-break: inherit\; overflow-wrap: inherit\; z-index: auto\; background-image: none\; background-position: initial\; background-size: initial\; background-repeat: initial\; background-attachment: initial\; background-origin: initial\; background-clip: initial\; border: none\; border-collapse: separate\; border-radius: 0px\; height: auto\; width: auto\;" />\n<span style="inset: auto\; box-sizing: content-box\; clear: none\; color: rgb(68\, 68\, 68)\; content: normal\; direction: inherit\; empty-cells: show\; font-variant-numeric: inherit\; font-variant-east-asian: inherit\; font-weight: bolder\; font-stretch: inherit\; font-size: 14px\; font-family: Arial\, Helvetica\, sans-serif\; line-height: inherit\; margin: 0px\; max-height: none\; max-width: none\; min-height: initial\; min-width: initial\; opacity: 1\; outline-offset: 0px\; overflow: visible\; padding: 0px\; position: static\; resize: none\; table-layout: auto\; text-overflow: clip\; vertical-align: baseline\; visibility: inherit\; word-break: inherit\; overflow-wrap: inherit\; z-index: auto\; background-image: none\; background-position: initial\; background-size: initial\; background-repeat: initial\; background-attachment: initial\; background-origin: initial\; background-clip: initial\; border: none\; border-collapse: separate\; border-radius: 0px\; height: auto\; width: auto\; box-shadow: none\;"><span style="inset: auto\; box-sizing: content-box\; clear: none\; color: inherit\; content: normal\; direction: inherit\; empty-cells: show\; font-style: inherit\; font-variant: inherit\; font-weight: inherit\; font-stretch: inherit\; font-size: 16px\; font-family: inherit\; letter-spacing: inherit\; line-height: inherit\; margin: 0px\; max-height: none\; max-width: none\; min-height: initial\; min-width: initial\; opacity: 1\; outline-offset: 0px\; overflow: visible\; padding: 0px\; position: static\; resize: none\; table-layout: auto\; text-align: inherit\; text-indent: inherit\; text-overflow: clip\; text-transform: inherit\; vertical-align: baseline\; visibility: inherit\; white-space: inherit\; word-break: inherit\; word-spacing: inherit\; overflow-wrap: inherit\; z-index: auto\; background: none\; border: none\; border-collapse: separate\; border-radius: 0px\; height: auto\; width: auto\; box-shadow: none\;"><span style="inset: auto\; box-sizing: content-box\; clear: none\; color: inherit\; content: normal\; direction: inherit\; empty-cells: show\; font-style: inherit\; font-variant: inherit\; font-weight: inherit\; font-stretch: inherit\; font-size: inherit\; font-family: verdana\; letter-spacing: inherit\; line-height: inherit\; margin: 0px\; max-height: none\; max-width: none\; min-height: initial\; min-width: initial\; opacity: 1\; outline-offset: 0px\; overflow: visible\; padding: 0px\; position: static\; resize: none\; table-layout: auto\; text-align: inherit\; text-indent: inherit\; text-overflow: clip\; text-transform: inherit\; vertical-align: baseline\; visibility: inherit\; white-space: inherit\; word-break: inherit\; word-spacing: inherit\; overflow-wrap: inherit\; z-index: auto\; background: none\; border: none\; border-collapse: separate\; border-radius: 0px\; height: auto\; width: auto\; box-shadow: none\;">This month:&nbsp\;</span></span></span><span style="font-family:verdana\;"><span style="font-size:16px\;">Join the Escondido Chamber of Commerce and host <strong>Neighborhood Health Care </strong>for their<strong> Open House.</strong>&nbsp\;Enjoy an evening of networking and guided tours of their newest location.&nbsp\;<br />\n<br />\nAt Neighborhood Health Care\,<span style="font-size: 16px\;"> </span>c</span></span><span style="font-size:16px\;">ommunity health is about more than just vaccines and checkups. It&rsquo\;s about giving people the resources they need to live their best lives. At Neighborhood\, this is our vision. A community where everyone is healthy and happy. We&rsquo\;re with you every step of the way\, with the care you need for each of life&rsquo\;s chapters. At Neighborhood\, we are Better Together.</span><span style="font-family:verdana\;"><span style="font-size:16px\;">&nbsp\;</span><br />\n<br />\n<span style="font-size: 16px\;">Please RSVP to ensure food and parking availability.</span></span>
LOCATION:Neighborhood Health Care 215 S. Hickory St. Escondido\, CA 92025
UID:e.799.8712
SEQUENCE:3
DTSTAMP:20260422T044542Z
URL:https://business.escondidochamber.org/events/details/business-after-5-mixer-open-house-neighborhood-health-care-8712
END:VEVENT

END:VCALENDAR
