BEGIN:VCALENDAR
VERSION:2.0
PRODID:-//ChamberMaster//Event Calendar 2.0//EN
METHOD:PUBLISH
X-PUBLISHED-TTL:P3D
REFRESH-INTERVAL:P3D
CALSCALE:GREGORIAN
BEGIN:VEVENT
DTSTART:20241012T210000Z
DTEND:20241012T220000Z
X-MICROSOFT-CDO-ALLDAYEVENT:FALSE
SUMMARY:Celebrating 100 Years of Farming with The FarmStand West
DESCRIPTION:Join us as we celebrate and honor The FarmStand West during their Fall Festival 2024. The Hillebrecht family is celebrating their 100th anniversary in farming. The Escondido Chamber and our community will be honoring the family and business at 2pm. \n\nTheir Fall Festival is held Saturday 10/12 and Sunday 10/13. Come out and enjoy a weekend filled of:\n\n	Local Vendors\n	Tractor Hayrides\n	Face Painting\n	Kid's Corner-picnic/play area\n	You pick Pumpkin Patch\n	Fresh local grown produce\n	Fresh squeezed juice\, coffee & snacks\n	Ice Cream
X-ALT-DESC;FMTTYPE=text/html:Join us as we celebrate and honor The FarmStand West during their Fall Festival 2024. The Hillebrecht family is celebrating their 100th anniversary in farming. The Escondido Chamber and our community will be honoring the family and business at 2pm.&nbsp\;<br />\nTheir Fall Festival is held Saturday 10/12 and Sunday 10/13. Come out and enjoy a weekend filled of:\n<ul>\n	<li>Local Vendors</li>\n	<li>Tractor Hayrides</li>\n	<li>Face Painting</li>\n	<li>Kid&#39\;s Corner-picnic/play area</li>\n	<li>You pick Pumpkin Patch</li>\n	<li>Fresh local grown produce</li>\n	<li>Fresh squeezed juice\, coffee &amp\; snacks</li>\n	<li>Ice Cream</li>\n</ul>\n
LOCATION:2115 Miller Ave Escondido\, CA 92025
UID:e.799.8773
SEQUENCE:3
DTSTAMP:20260421T223941Z
URL:https://business.escondidochamber.org/events/details/celebrating-100-years-of-farming-with-the-farmstand-west-8773
END:VEVENT

END:VCALENDAR
