BEGIN:VCALENDAR
VERSION:2.0
PRODID:-//ChamberMaster//Event Calendar 2.0//EN
METHOD:PUBLISH
X-PUBLISHED-TTL:P3D
REFRESH-INTERVAL:P3D
CALSCALE:GREGORIAN
BEGIN:VEVENT
DTSTART:20240422T150000Z
DTEND:20240422T210000Z
X-MICROSOFT-CDO-ALLDAYEVENT:FALSE
SUMMARY:Escondido Children's Discovery Museum
DESCRIPTION:Children's Museum Meeting
X-ALT-DESC;FMTTYPE=text/html:Children&#39\;s Museum Meeting
LOCATION:720 Broadway
UID:e.799.8715
SEQUENCE:3
DTSTAMP:20260421T134019Z
URL:https://business.escondidochamber.org/events/details/escondido-children-s-discovery-museum-8715
END:VEVENT

END:VCALENDAR
