BEGIN:VCALENDAR
VERSION:2.0
PRODID:-//ChamberMaster//Event Calendar 2.0//EN
METHOD:PUBLISH
X-PUBLISHED-TTL:P3D
REFRESH-INTERVAL:P3D
CALSCALE:GREGORIAN
BEGIN:VEVENT
DTSTART:20240420T180000Z
DTEND:20240420T210000Z
X-MICROSOFT-CDO-ALLDAYEVENT:FALSE
SUMMARY:Escondido Green Expo
DESCRIPTION:Get ready to join the Escondido Chamber of Commerce as we present the Escondido Green Expo! This event will be taking place on Saturday\, April 20th\, 2024 at the North County Mall\, and is ALL about the evolution of GREEN businesses and their products and services.\nWe will highlight the impact of green energy and eco-friendly businesses in the fight against climate change.\n\nThis electrifying event will bring together 200+ community members from all walks of life. This event will facilitate partnerships between our local businesses\, local green industries\, and green technology development. \n\nThe ESCONDIDO GREEN EXPO aims to foster partnerships among businesses. Exhibitors/Vendors will have the chance to exhibit their innovative products/services to local business\, extended community\, and build collaborative relationships with other businesses/organizations operating in this field. \n\n \n\nThe ESCONDIDO GREEN EXPO will include:\n\n\n	A networking session \n	Panel discussions\n	Local high school robotics competition\n\n\n \n\nThe ESCONDIDO GREEN EXPO will begin at 11 a.m. and will be held at the North County Mall (Inside: Center court and level 1 common area)\n\n\n\nInterested in being a vendor/exhibitor? Give us a call 760 745-2125 or email info@escondidochamber.org
X-ALT-DESC;FMTTYPE=text/html:<span style="font-size:16px\;"><span style="font-family:verdana\;"><span style="color:#000000\;"><strong style="box-sizing: border-box\; color: rgb(57\, 63\, 66)\; font-family: Montserrat\, sans-serif\; font-size: 16px\; text-align: center\;">Get ready to join the Escondido Chamber of Commerce as we present the Escondido Green Expo! This event will be taking place on Saturday\, April 20th\, 2024 at the North County Mall\, and is ALL about the evolution of</strong></span><span style="color:#008000\;"><strong style="box-sizing: border-box\; color: rgb(57\, 63\, 66)\; font-family: Montserrat\, sans-serif\; font-size: 16px\; text-align: center\;"> </strong></span><span style="color:#00FF00\;"><strong style="box-sizing: border-box\; color: rgb(57\, 63\, 66)\; font-family: Montserrat\, sans-serif\; font-size: 16px\; text-align: center\;">GREEN</strong></span><span style="color:#000000\;"><strong style="box-sizing: border-box\; color: rgb(57\, 63\, 66)\; font-family: Montserrat\, sans-serif\; font-size: 16px\; text-align: center\;"> businesses and their products and services.</strong></span></span></span>\n<p class="cvGsUA direction-ltr align-start para-style-body" style="color: rgb(95\, 67\, 44)\; font-family: &quot\;YAD1aU3sLnI 0&quot\;\, _fb_\, auto\; --font-size: 18.667px\; --line-height: 1.2\; line-height: 22px\;"><span style="color:#000000\;"><span style="font-size:16px\;"><span style="font-family:verdana\;"><strong><span class="OYPEnA text-decoration-none text-strikethrough-none">We will highlight the impact of green energy and eco-friendly businesses in the fight against climate change.</span></strong></span></span></span></p>\n\n<p class="cvGsUA direction-ltr align-start para-style-body" style="color: rgb(95\, 67\, 44)\; font-family: &quot\;YAD1aU3sLnI 0&quot\;\, _fb_\, auto\; --font-size: 18.667px\; --line-height: 1.2\; line-height: 22px\;"><span style="color:#000000\;"><span style="font-size:16px\;"><span style="font-family:verdana\;"><strong><span class="OYPEnA text-decoration-none text-strikethrough-none">This electrifying event will bring together 200+ community members from all walks of life. This event will facilitate partnerships between our local businesses\, local green industries\, and green technology development.</span><span class="OYPEnA text-decoration-none text-strikethrough-none white-space-prewrap"> </span></strong></span></span></span></p>\n\n<p class="cvGsUA direction-ltr align-start para-style-body" style="color: rgb(95\, 67\, 44)\; font-family: &quot\;YAD1aU3sLnI 0&quot\;\, _fb_\, auto\; --font-size: 18.667px\; --line-height: 1.2\; line-height: 22px\;"><span style="font-size:16px\;"><span style="font-family:verdana\;"><strong><span style="color:#000000\;"><span class="OYPEnA text-decoration-none text-strikethrough-none">The</span></span><span style="color:#008000\;"><span class="OYPEnA text-decoration-none text-strikethrough-none" style="font-weight: 700\;"> </span><span class="OYPEnA text-decoration-none text-strikethrough-none" style="font-weight: 700\;">ESCONDIDO GREEN EXPO</span></span><span class="OYPEnA text-decoration-none text-strikethrough-none"><span style="color:#008000\;"> </span><span style="color:#000000\;">aims to foster partnerships among businesses. Exhibitors/Vendors will have the chance to exhibit their innovative products/services to local business\, extended</span></span><span style="color:#000000\;"><span class="OYPEnA text-decoration-none text-strikethrough-none white-space-prewrap"> </span><span class="OYPEnA text-decoration-none text-strikethrough-none">community\, and build collaborative relationships with other businesses/organizations operating in this field.</span><span class="OYPEnA text-decoration-none text-strikethrough-none white-space-prewrap"> </span></span></strong></span></span></p>\n\n<p class="cvGsUA direction-ltr align-start para-style-body" style="color: rgb(95\, 67\, 44)\; font-family: &quot\;YAD1aU3sLnI 0&quot\;\, _fb_\, auto\; --font-size: 18.667px\; --line-height: 1.2\; line-height: 22px\;">&nbsp\;</p>\n\n<p class="cvGsUA direction-ltr align-start para-style-body" style="color: rgb(95\, 67\, 44)\; font-family: &quot\;YAD1aU3sLnI 0&quot\;\, _fb_\, auto\; --font-size: 18.667px\; --line-height: 1.2\; line-height: 22px\;"><span style="color:#000000\;"><span style="font-size:16px\;"><span style="font-family:verdana\;"><strong><span class="OYPEnA text-decoration-none text-strikethrough-none">The</span><span class="OYPEnA text-decoration-none text-strikethrough-none" style="font-weight: 700\;"> </span></strong></span></span></span><span style="color:#008000\;"><span style="font-size:16px\;"><span style="font-family:verdana\;"><strong><span class="OYPEnA text-decoration-none text-strikethrough-none" style="font-weight: 700\;">ESCONDIDO GREEN EXPO</span></strong></span></span></span><span style="color:#000000\;"><span style="font-size:16px\;"><span style="font-family:verdana\;"><strong><span class="OYPEnA text-decoration-none text-strikethrough-none"> will include:</span></strong></span></span></span></p>\n\n<ul>\n	<li><span style="color:#000000\;"><span style="font-size:16px\;"><span style="font-family:verdana\;"><strong><span class="OYPEnA text-decoration-none text-strikethrough-none">A networking session</span><span class="OYPEnA text-decoration-none text-strikethrough-none white-space-prewrap"> </span></strong></span></span></span></li>\n	<li><span style="color:#000000\;"><span style="font-size:16px\;"><span style="font-family:verdana\;"><strong><span class="OYPEnA text-decoration-none text-strikethrough-none">Panel discussions</span></strong></span></span></span></li>\n	<li><span style="color:#000000\;"><span style="font-size:16px\;"><span style="font-family:verdana\;"><strong><span class="OYPEnA text-decoration-none text-strikethrough-none">Local high school robotics competition</span></strong></span></span></span></li>\n</ul>\n\n<p class="cvGsUA direction-ltr align-start para-style-body" style="color: rgb(95\, 67\, 44)\; font-family: &quot\;YAD1aU3sLnI 0&quot\;\, _fb_\, auto\; --font-size: 18.667px\; --line-height: 1.2\; line-height: 22px\;">&nbsp\;</p>\n\n<p class="cvGsUA direction-ltr align-start para-style-body" style="color: rgb(95\, 67\, 44)\; font-family: &quot\;YAD1aU3sLnI 0&quot\;\, _fb_\, auto\; --font-size: 18.667px\; --line-height: 1.2\; line-height: 22px\;"><span style="color:#000000\;"><span style="font-size:16px\;"><span style="font-family:verdana\;"><strong><span class="OYPEnA text-decoration-none text-strikethrough-none">The </span></strong></span></span></span><span style="color:#008000\;"><span style="font-size:16px\;"><span style="font-family:verdana\;"><strong><span class="OYPEnA text-decoration-none text-strikethrough-none" style="font-weight: 700\;">ESCONDIDO GREEN EXPO</span></strong></span></span></span><span style="color:#000000\;"><span style="font-size:16px\;"><span style="font-family:verdana\;"><strong><span class="OYPEnA text-decoration-none text-strikethrough-none" style="font-weight: 700\;"> </span><span class="OYPEnA text-decoration-none text-strikethrough-none">will begin at 11 a.m. and will be held at the North County Mall (Inside: Center court and level 1 common area)</span></strong></span></span></span><br />\n<br />\n<span style="font-size:26px\;"><span style="color:#008000\;"><strong>Interested in being a vendor/exhibitor? Give us a call 760 745-2125 or email info@escondidochamber.org</strong></span></span></p>\n
LOCATION:North County Mall 272 E. Via Rancho Parkway Escondido\, CA 92025
UID:e.799.8422
SEQUENCE:3
DTSTAMP:20260421T133737Z
URL:https://business.escondidochamber.org/events/details/escondido-green-expo-8422
END:VEVENT

END:VCALENDAR
