BEGIN:VCALENDAR
VERSION:2.0
PRODID:-//ChamberMaster//Event Calendar 2.0//EN
METHOD:PUBLISH
X-PUBLISHED-TTL:P3D
REFRESH-INTERVAL:P3D
CALSCALE:GREGORIAN
BEGIN:VEVENT
DTSTART:20251206T000000Z
DTEND:20251222T000000Z
X-MICROSOFT-CDO-ALLDAYEVENT:FALSE
SUMMARY:Escondido Holiday - The Market on the Plaza
DESCRIPTION:Market on the Plaza\n\nDecember 5 21\n\nFridays: 4 8 p.m Saturdays: 12 8 p.m Sundays: 12 4 p.m.\n\nLocation: Maple Street Plaza\n\nhttps://www.downtownescondido.com/holidays-downtown...\n\nCelebrate the season with markets\, music\, skating\, and more\n\nright in the heart of downtown.\n\nThe Market on the Plaza brings together local makers and artists for three festive weekends of holiday shopping and celebration. Explore handmade goods\, homemade treats\, and original art in a lively pedestrian plaza that connects City Hall\, the California Center for the Arts\, and Historic Downtown Escondido.\n\nEnjoy the season surrounded by music\, lights\, and community cheer and make Downtown Escondido part of your holiday tradition!
X-ALT-DESC;FMTTYPE=text/html:<div class="xdj266r x14z9mp xat24cr x1lziwak x1vvkbs" style="overflow-wrap: break-word\; margin-inline: 0px\; margin-bottom: 0px\; margin-top: 0px\; font-family: system-ui\, -apple-system\, &quot\;system-ui&quot\;\, &quot\;.SFNSText-Regular&quot\;\, sans-serif\; color: rgb(8\, 8\, 9)\; font-size: 15px\;">Market on the Plaza</div>\n\n<div class="x14z9mp xat24cr x1lziwak x1vvkbs xtlvy1s" style="overflow-wrap: break-word\; margin-top: 0.5em\; margin-inline: 0px\; margin-bottom: 0px\; font-family: system-ui\, -apple-system\, &quot\;system-ui&quot\;\, &quot\;.SFNSText-Regular&quot\;\, sans-serif\; color: rgb(8\, 8\, 9)\; font-size: 15px\;">December 5&ndash\;21</div>\n\n<div class="x14z9mp xat24cr x1lziwak x1vvkbs xtlvy1s" style="overflow-wrap: break-word\; margin-top: 0.5em\; margin-inline: 0px\; margin-bottom: 0px\; font-family: system-ui\, -apple-system\, &quot\;system-ui&quot\;\, &quot\;.SFNSText-Regular&quot\;\, sans-serif\; color: rgb(8\, 8\, 9)\; font-size: 15px\;">Fridays: 4&ndash\;8 p.m Saturdays: 12&ndash\;8 p.m Sundays: 12&ndash\;4 p.m.<br class="html-br" />\nLocation: Maple Street Plaza</div>\n\n<div class="x14z9mp xat24cr x1lziwak x1vvkbs xtlvy1s" style="overflow-wrap: break-word\; margin-top: 0.5em\; margin-inline: 0px\; margin-bottom: 0px\; font-family: system-ui\, -apple-system\, &quot\;system-ui&quot\;\, &quot\;.SFNSText-Regular&quot\;\, sans-serif\; color: rgb(8\, 8\, 9)\; font-size: 15px\;"><a attributionsrc="/privacy_sandbox/comet/register/source/?xt=AZWTW7_KxglhwiHL1r6y2U1Hohzk4X2hAVCM38_C4DNWkDYPHtwiv9clE6QYeXdoWajtugUlNZmERN8yQgPytejd2EOLdAsSB650JCZlGBYQGtER2Dvn565cMttBRSJfulUafCZBzf09h3m-NW-fmwjH5BEStmZnoSL_AuWH2Rax0LERMYxbWPsHdolhFBDL40HIYzcfJVMD-ezOvHe3xvqPJRyUXiSQ_20TCwZU1sok6pQWVKM1NhtBsDYUOAkwwMKavpSPN88FOcIeX_y5wlziui7g-InS0yg6OU1yHvSI7Tk-nzpWK1exW2c2WD5H6jexY63da0b7ydCX7F6oV4x_wlEB7OSoJkGfX8BhgVIrdzebWoO4y-UTFFlK_2E1y3EVv5T2MLsSALTVqcIZeuUmMU1McWoimoPGrZ31oy2wHcRZ0k_xq3YfWtucYmmxgRBVjT4y7e50q14tyiWYWXphl7SHAE6DxGLRFIRfyGcmYPhjY5sNz6F_nu0-fT_AI_OMW61nDRGLYcPFcaRQim0a6mE9arR6hxnkQkcAxQT_Dz51C--AQBsNItaoUKw2Rs5QpkEYYVgPys21MYQTiaWm1G4dHXnFKhrUg5NwF5WwtE7JrGPII69cEXLYTrRkflL26E92e3HxMe6Hqkx1fUwrhmbKHgqSK38W3qVJiiEj0cOpo7Wktito9l9SiEt8isY0zidmIduYcVLDJ2FCnStazKqprHSxVUD6cmfH5fNdS6k4qwRH6vzvs3RmALxVIJksqjQA-Ks-Pma8LKw7fQUcs9eOMfo4p6DlZzEB72mUo8LbufiSGADml_RyiMT6vIdrNji-vSYU72I3O4abHCXDOF4XSH11SII_DLnXen9atQ" class="x1i10hfl xjbqb8w x1ejq31n x18oe1m7 x1sy0etr xstzfhl x972fbf x10w94by x1qhh985 x14e42zd x9f619 x1ypdohk xt0psk2 x3ct3a4 xdj266r x14z9mp xat24cr x1lziwak xexx8yu xyri2b x18d9i69 x1c1uobl x16tdsg8 x1hl2dhg xggy1nq x1a2a7pz xkrqix3 x1sur9pj x1fey0fg x1s688f" href="https://www.downtownescondido.com/holidays-downtown-escondido?fbclid=IwZXh0bgNhZW0CMTAAYnJpZBExdmJaVUJEUTZvdG9VODN2eHNydGMGYXBwX2lkEDIyMjAzOTE3ODgyMDA4OTIAAR6z2vtAoWhuCeaLRp_zvqLQQB5CJoxvs6UzLG_1qrL8v5-5VH7V1i2WtJEj5Q_aem_M_5ZQSlQ_hPsvQEnHWPc8w" rel="nofollow noreferrer" role="link" style="color: rgb(0\, 100\, 209)\; cursor: pointer\; text-decoration-line: none\; text-align: inherit\; font-weight: 600\; list-style-type: none\; box-sizing: border-box\; background-color: transparent\; display: inline\; outline: none\; -webkit-tap-highlight-color: transparent\; touch-action: manipulation\; border-inline-width: 0px\; margin-inline: 0px\; border-inline-style: none\; padding-inline: 0px\; padding-bottom: 0px\; border-top-style: none\; border-bottom-width: 0px\; border-bottom-style: none\; border-top-width: 0px\; margin-bottom: 0px\; margin-top: 0px\; padding-top: 0px\; font-family: inherit\;" tabindex="0" target="_blank">https://www.downtownescondido.com/holidays-downtown...</a></div>\n\n<div class="x14z9mp xat24cr x1lziwak x1vvkbs xtlvy1s" style="overflow-wrap: break-word\; margin-top: 0.5em\; margin-inline: 0px\; margin-bottom: 0px\; font-family: system-ui\, -apple-system\, &quot\;system-ui&quot\;\, &quot\;.SFNSText-Regular&quot\;\, sans-serif\; color: rgb(8\, 8\, 9)\; font-size: 15px\;">Celebrate the season with markets\, music\, skating\, and more<br class="html-br" />\nright in the heart of downtown.</div>\n\n<div class="x14z9mp xat24cr x1lziwak x1vvkbs xtlvy1s" style="overflow-wrap: break-word\; margin-top: 0.5em\; margin-inline: 0px\; margin-bottom: 0px\; font-family: system-ui\, -apple-system\, &quot\;system-ui&quot\;\, &quot\;.SFNSText-Regular&quot\;\, sans-serif\; color: rgb(8\, 8\, 9)\; font-size: 15px\;">The Market on the Plaza brings together local makers and artists for three festive weekends of holiday shopping and celebration. Explore handmade goods\, homemade treats\, and original art in a lively pedestrian plaza that connects City Hall\, the California Center for the Arts\, and Historic Downtown Escondido.</div>\n\n<div class="x14z9mp xat24cr x1lziwak x1vvkbs xtlvy1s" style="overflow-wrap: break-word\; margin-top: 0.5em\; margin-inline: 0px\; margin-bottom: 0px\; font-family: system-ui\, -apple-system\, &quot\;system-ui&quot\;\, &quot\;.SFNSText-Regular&quot\;\, sans-serif\; color: rgb(8\, 8\, 9)\; font-size: 15px\;">Enjoy the season surrounded by music\, lights\, and community cheer and make Downtown Escondido part of your holiday tradition!</div>\n
LOCATION:Maple Street Plaza. Fridays 4 8pm Saturdays 12 8pm Sundays 12 4pm
UID:e.799.9505
SEQUENCE:3
DTSTAMP:20260424T235326Z
URL:https://business.escondidochamber.org/events/details/escondido-holiday-the-market-on-the-plaza-9505
END:VEVENT

END:VCALENDAR
