BEGIN:VCALENDAR
VERSION:2.0
PRODID:-//ChamberMaster//Event Calendar 2.0//EN
METHOD:PUBLISH
X-PUBLISHED-TTL:P3D
REFRESH-INTERVAL:P3D
CALSCALE:GREGORIAN
BEGIN:VEVENT
DTSTART:20251206T030000Z
DTEND:20251206T050000Z
X-MICROSOFT-CDO-ALLDAYEVENT:FALSE
SUMMARY:Escondido Jaycee's 74th Annual Christmas Parade
DESCRIPTION:74th Annual Escondido Jaycees Holiday Parade: Starting at 7om\, enjoy festive floats\, twinkling lights\, and all the small-town magic we love.
X-ALT-DESC;FMTTYPE=text/html:<span style="color: rgb(0\, 0\, 0)\; font-size: 12pt\; font-family: &quot\;Times New Roman&quot\;\, serif\;">74th Annual Escondido Jaycees Holiday Parade: Starting at 7om\, enjoy festive floats\, twinkling lights\, and all the small-town magic we love.&nbsp\;</span>
LOCATION:Friday\, December 5th PARADE START: 7 PM Parade route: Start: Juniper and Grand Ave End: Orange and Grand Ave
UID:e.799.9504
SEQUENCE:3
DTSTAMP:20260424T235107Z
URL:https://business.escondidochamber.org/events/details/escondido-jaycee-s-74th-annual-christmas-parade-9504
END:VEVENT

END:VCALENDAR
