BEGIN:VCALENDAR
VERSION:2.0
PRODID:-//ChamberMaster//Event Calendar 2.0//EN
METHOD:PUBLISH
X-PUBLISHED-TTL:P3D
REFRESH-INTERVAL:P3D
CALSCALE:GREGORIAN
BEGIN:VEVENT
DTSTART:20241021T233000Z
DTEND:20241022T003000Z
X-MICROSOFT-CDO-ALLDAYEVENT:FALSE
SUMMARY:Executive Committe
DESCRIPTION:This committee is made up of nine members of the Board of Directors to make up the Executive Committee. They meet each month to create and administrate Board/Chamber policy and direction. This is a closed session and is not open to the general membership or the public.
X-ALT-DESC;FMTTYPE=text/html:<span style="color: rgb(51\, 51\, 51)\; font-family: Verdana\, Arial\, Helvetica\, sans-serif\; font-size: 15px\; line-height: 23.4375px\; text-align: justify\; background-color: rgb(255\, 255\, 255)\;">This committee is made up of nine members of the Board of Directors to make up the Executive Committee. They meet each month to create and administrate Board/Chamber policy and direction. This is a closed session and is not open to the general membership or the public.</span>
LOCATION:
UID:e.799.3769
SEQUENCE:3
DTSTAMP:20260421T223343Z
URL:https://business.escondidochamber.org/events/details/executive-committe-10-21-2024-3769
END:VEVENT

END:VCALENDAR
