BEGIN:VCALENDAR
VERSION:2.0
PRODID:-//ChamberMaster//Event Calendar 2.0//EN
METHOD:PUBLISH
X-PUBLISHED-TTL:P3D
REFRESH-INTERVAL:P3D
CALSCALE:GREGORIAN
BEGIN:VEVENT
DTSTART:20250110T173000Z
DTEND:20250110T190000Z
X-MICROSOFT-CDO-ALLDAYEVENT:FALSE
SUMMARY:Goal Setting Presentation
DESCRIPTION:This Month 2025 Goal Setting Presentation\n\nJoin us for a special 2025 Goal Setting presentation with guest presenters\n\nAlan & Louisa Shimamoto from Accelerated Growth Coaching\n\n\n\n\n\n \n\n** If you would like to be a sponsor of bagels or pastries\, please email info@escondidochamber.org\n\nSponsors receive extended speaking opportunities\, brand visibility and social media promotion.
X-ALT-DESC;FMTTYPE=text/html:<p><strong style="font-family: verdana\; font-size: 18px\;">This Month 2025 Goal Setting Presentation</strong><br />\n<span style="font-size:18px\;"><span style="font-family: verdana\;">Join us for a special 2025 Goal Setting presentation with guest presenters<br />\nAlan &amp\; Louisa Shimamoto from Accelerated Growth Coaching</span></span><br />\n<br />\n<br />\n&nbsp\;</p>\n\n<p><span style="font-size:18px\;"><span style="font-family: verdana\;"><span style="line-height: 1.5\; font-variant-numeric: normal\; font-variant-east-asian: normal\; font-stretch: normal\;">** If you would like to be a sponsor of bagels or pastries\, please email info@escondidochamber.org<br />\nSponsors receive extended speaking opportunities\, brand visibility and social media promotion.</span></span></span></p>\n
LOCATION:Join us in the Escondido Chamber conference room. 720 N. Broadway Escondido\, CA 90205
UID:e.799.9114
SEQUENCE:3
DTSTAMP:20260420T181536Z
URL:https://business.escondidochamber.org/events/details/goal-setting-presentation-9114
END:VEVENT

END:VCALENDAR
