BEGIN:VCALENDAR
VERSION:2.0
PRODID:-//ChamberMaster//Event Calendar 2.0//EN
METHOD:PUBLISH
X-PUBLISHED-TTL:P3D
REFRESH-INTERVAL:P3D
CALSCALE:GREGORIAN
BEGIN:VEVENT
DTSTART:20260311T190000Z
DTEND:20260311T200000Z
X-MICROSOFT-CDO-ALLDAYEVENT:FALSE
SUMMARY:Government Affairs Committee
DESCRIPTION:The Chamber's Government Affairs Committee works to create and sustain a favorable business environment in which all businesses can grow and prosper through the monitoring of legislation and influencing of governmental decisions on behalf of the interests of our members. This committee provides a basis for the Chamber to act on local\, state\, and federal governmental issues and evaluate political candidates.\n  Join Us for Our Next Government Affairs Meeting\n\nThe Escondido Chamber of Commerce invites our members and community to attend our upcoming Government Affairs Meeting featuring County Board of Supervisors Jim Desmond.\n\nSupervisor Desmond will provide important updates on issues impacting North County\, share insights on regional priorities\, and discuss matters that affect the local business community.\n\nThis is a valuable opportunity for Chamber members to stay informed\, engage in meaningful dialogue\, and connect with local leadership.\n\nWe encourage our members to attend and be part of the conversation.
X-ALT-DESC;FMTTYPE=text/html:<span style="background-image: none\; background-position: initial\; background-size: initial\; background-repeat: initial\; background-attachment: initial\; background-origin: initial\; background-clip: initial\; bottom: auto\; box-sizing: content-box\; clear: none\; content: normal\; direction: inherit\; empty-cells: show\; font-variant-numeric: inherit\; font-variant-east-asian: inherit\; font-stretch: inherit\; font-size: 14px\; font-family: verdana\; left: auto\; line-height: inherit\; margin: 0px\; max-height: none\; max-width: none\; min-height: initial\; min-width: initial\; opacity: 1\; outline-offset: 0px\; overflow: visible\; padding: 0px\; position: static\; resize: none\; right: auto\; table-layout: auto\; text-overflow: clip\; top: auto\; vertical-align: baseline\; visibility: inherit\; word-break: inherit\; overflow-wrap: inherit\; z-index: auto\; border: none\; border-collapse: separate\; border-radius: 0px\; height: auto\; width: auto\; box-shadow: none\;"><span style="bottom: auto\; box-sizing: content-box\; clear: none\; content: normal\; direction: inherit\; empty-cells: show\; font-style: inherit\; font-variant: inherit\; font-weight: inherit\; font-stretch: inherit\; font-size: 16px\; font-family: inherit\; left: auto\; letter-spacing: inherit\; line-height: inherit\; margin: 0px\; max-height: none\; max-width: none\; min-height: initial\; min-width: initial\; opacity: 1\; outline-offset: 0px\; overflow: visible\; padding: 0px\; position: static\; resize: none\; right: auto\; table-layout: auto\; text-align: justify\; text-indent: inherit\; text-overflow: clip\; text-transform: inherit\; top: auto\; vertical-align: baseline\; visibility: inherit\; white-space: inherit\; word-break: inherit\; word-spacing: inherit\; overflow-wrap: inherit\; z-index: auto\; background: none\; border: none\; border-collapse: separate\; border-radius: 0px\; height: auto\; width: auto\; box-shadow: none\;">The Chamber&#39\;s Government Affairs Committee works to create and sustain a favorable business environment in which all businesses can grow and prosper through the monitoring of legislation and influencing of governmental decisions on behalf of the interests of our members. This committee provides a basis for the Chamber to act on local\, state\, and federal governmental issues and evaluate political candidates.</span></span>\n<p data-end="225" data-start="171">&#128226\; <span style="font-size:16px\;"><strong data-end="225" data-start="174">Join Us for Our Next Government Affairs Meeting</strong></span></p>\n\n<p data-end="403" data-start="227"><span style="font-size:16px\;">The Escondido Chamber of Commerce invites our members and community to attend our upcoming <strong data-end="348" data-start="318">Government Affairs Meeting</strong> featuring <strong data-end="402" data-start="359">County Board of Supervisors Jim Desmond</strong>.</span></p>\n\n<p data-end="589" data-start="405"><span style="font-size:16px\;">Supervisor Desmond will provide important updates on issues impacting North County\, share insights on regional priorities\, and discuss matters that affect the local business community.</span></p>\n\n<p data-end="725" data-start="591"><span style="font-size:16px\;">This is a valuable opportunity for Chamber members to stay informed\, engage in meaningful dialogue\, and connect with local leadership.</span></p>\n\n<p data-end="794" data-start="727"><span style="font-size:16px\;">We encourage our members to attend and be part of the conversation.</span></p>\n<br />\n&nbsp\;
LOCATION:Escondido Chamber of Commerce 720 N. Broadway Escondido\, CA 92025
UID:e.799.8857
SEQUENCE:3
DTSTAMP:20260424T183316Z
URL:https://business.escondidochamber.org/events/details/government-affairs-committee-03-18-2026-8857
END:VEVENT

END:VCALENDAR
