BEGIN:VCALENDAR
VERSION:2.0
PRODID:-//ChamberMaster//Event Calendar 2.0//EN
METHOD:PUBLISH
X-PUBLISHED-TTL:P3D
REFRESH-INTERVAL:P3D
CALSCALE:GREGORIAN
BEGIN:VEVENT
DTSTART:20241103T190000Z
DTEND:20241103T220000Z
X-MICROSOFT-CDO-ALLDAYEVENT:FALSE
SUMMARY:HGV Chili Cook Off
DESCRIPTION:The Harmony Grove Village and the Escondido Chamber of Commerce presents:                      HGV Chili Cook Off\n\nJoin us for this community event showcasing businesses and organizations who serve the Harmony Grove area and Escondido as a whole. \n\n\n\nVendor Space available. Reach out for more details.
X-ALT-DESC;FMTTYPE=text/html:<span style="font-size:16px\;"><span style="font-family:comic sans ms\;">The Harmony Grove Village and the Escondido Chamber of Commerce presents:&nbsp\; &nbsp\; &nbsp\; &nbsp\; &nbsp\; &nbsp\; &nbsp\; &nbsp\; &nbsp\; &nbsp\; &nbsp\; HGV Chili Cook Off<br />\nJoin us for this community event showcasing businesses and organizations who serve the Harmony Grove area and Escondido as a whole.&nbsp\;</span></span><br />\n<br />\n<span style="font-size:16px\;"><span style="font-family:comic sans ms\;">Vendor Space available. Reach out for more details.</span></span>
LOCATION:Fourth of July Park in Harmony Grove 2815 Starry Night Dr. Escondido\, CA 92029
UID:e.799.8774
SEQUENCE:3
DTSTAMP:20260422T002211Z
URL:https://business.escondidochamber.org/events/details/hgv-chili-cook-off-8774
END:VEVENT

END:VCALENDAR
