BEGIN:VCALENDAR
VERSION:2.0
PRODID:-//ChamberMaster//Event Calendar 2.0//EN
METHOD:PUBLISH
X-PUBLISHED-TTL:P3D
REFRESH-INTERVAL:P3D
CALSCALE:GREGORIAN
BEGIN:VEVENT
DTSTART:20241221T020000Z
DTEND:20241221T040000Z
X-MICROSOFT-CDO-ALLDAYEVENT:FALSE
SUMMARY:Jingle & Mingle: Christmas Posada w/East Valley Pkway Business District
DESCRIPTION:Join Us for a Business Community Traditional Posada! Celebrate Local Businesses & Community Spirit!\n \nWe are excited to invite all Escondido businesses to come together for a festive and meaningful evening at our Traditional Posada! This event is designed to support the East Valley Parkway Business District.\n\n\n \n\nWhat to Expect:\n\n- Networking Opportunities: Connect with fellow business owners and entrepreneurs.\n\n- Local Vendors: Discover and support local businesses showcasing their products and services.\n\n- Delicious Food & Drinks for sale: Enjoy traditional holiday treats and beverages!\n\n- Entertainment: Participate in fun activities like pi tas\, villancicos/Christmas caroling\, business raffles\, music\, Amazing Mini Miracles will be present with their mini ponies and much more!\n\n\n\nAs the Chamber of Commerce\, we are dedicated to being the voice of business in Escondido. Your presence at this event will help strengthen our community and support our local economy.\n\n\n\nDon't miss out on this opportunity to celebrate and connect!
X-ALT-DESC;FMTTYPE=text/html:<span style="color: rgb(34\, 34\, 34)\; font-family: Arial\, Helvetica\, sans-serif\; font-size: small\; background-color: rgb(255\, 255\, 255)\;">Join Us for a Business Community Traditional Posada!&nbsp\;</span><span style="color: rgb(34\, 34\, 34)\; font-family: Arial\, Helvetica\, sans-serif\; font-size: small\; background-color: rgb(255\, 255\, 255)\;">Celebrate Local Businesses &amp\; Community Spirit!</span>\n<div>&nbsp\;\n<div><span style="color: rgb(34\, 34\, 34)\; font-family: Arial\, Helvetica\, sans-serif\; font-size: small\; background-color: rgb(255\, 255\, 255)\;">We are excited to invite all Escondido businesses to come together for a festive and meaningful evening at our Traditional Posada! This event is designed to support the East Valley Parkway Business District.</span></div>\n</div>\n\n<div>&nbsp\;</div>\n\n<div><span style="color: rgb(34\, 34\, 34)\; font-family: Arial\, Helvetica\, sans-serif\; font-size: small\; background-color: rgb(255\, 255\, 255)\;">What to Expect:</span><br style="color: rgb(34\, 34\, 34)\; font-family: Arial\, Helvetica\, sans-serif\; font-size: small\; background-color: rgb(255\, 255\, 255)\;" />\n<span style="color: rgb(34\, 34\, 34)\; font-family: Arial\, Helvetica\, sans-serif\; font-size: small\; background-color: rgb(255\, 255\, 255)\;">- Networking Opportunities: Connect with fellow business owners and entrepreneurs.</span><br style="color: rgb(34\, 34\, 34)\; font-family: Arial\, Helvetica\, sans-serif\; font-size: small\; background-color: rgb(255\, 255\, 255)\;" />\n<span style="color: rgb(34\, 34\, 34)\; font-family: Arial\, Helvetica\, sans-serif\; font-size: small\; background-color: rgb(255\, 255\, 255)\;">- Local Vendors: Discover and support local businesses showcasing their products and services.</span><br style="color: rgb(34\, 34\, 34)\; font-family: Arial\, Helvetica\, sans-serif\; font-size: small\; background-color: rgb(255\, 255\, 255)\;" />\n<span style="color: rgb(34\, 34\, 34)\; font-family: Arial\, Helvetica\, sans-serif\; font-size: small\; background-color: rgb(255\, 255\, 255)\;">- Delicious Food &amp\; Drinks for sale: Enjoy traditional holiday treats and beverages!</span><br style="color: rgb(34\, 34\, 34)\; font-family: Arial\, Helvetica\, sans-serif\; font-size: small\; background-color: rgb(255\, 255\, 255)\;" />\n<span style="color: rgb(34\, 34\, 34)\; font-family: Arial\, Helvetica\, sans-serif\; font-size: small\; background-color: rgb(255\, 255\, 255)\;">- Entertainment: Participate in fun activities like pi&ntilde\;tas\, villancicos/Christmas caroling\, business raffles\, music\, Amazing Mini Miracles will be present with their mini ponies&nbsp\;and much more!</span><br style="color: rgb(34\, 34\, 34)\; font-family: Arial\, Helvetica\, sans-serif\; font-size: small\; background-color: rgb(255\, 255\, 255)\;" />\n<br style="color: rgb(34\, 34\, 34)\; font-family: Arial\, Helvetica\, sans-serif\; font-size: small\; background-color: rgb(255\, 255\, 255)\;" />\n<span style="color: rgb(34\, 34\, 34)\; font-family: Arial\, Helvetica\, sans-serif\; font-size: small\; background-color: rgb(255\, 255\, 255)\;">As the Chamber of Commerce\, we are dedicated to being the voice of business in Escondido. Your presence at this event will help strengthen our community and support our local economy.</span><br style="color: rgb(34\, 34\, 34)\; font-family: Arial\, Helvetica\, sans-serif\; font-size: small\; background-color: rgb(255\, 255\, 255)\;" />\n<br style="color: rgb(34\, 34\, 34)\; font-family: Arial\, Helvetica\, sans-serif\; font-size: small\; background-color: rgb(255\, 255\, 255)\;" />\n<span style="color: rgb(34\, 34\, 34)\; font-family: Arial\, Helvetica\, sans-serif\; font-size: small\; background-color: rgb(255\, 255\, 255)\;">Don&#39\;t miss out on this opportunity to celebrate and connect!</span></div>\n
LOCATION:Elote Restaurant 1760 E. Valley Parkway Escondido\, CA 92027
UID:e.799.8781
SEQUENCE:3
DTSTAMP:20260422T022217Z
URL:https://business.escondidochamber.org/events/details/jingle-mingle-christmas-posada-w-east-valley-pkway-business-district-8781
END:VEVENT

END:VCALENDAR
