BEGIN:VCALENDAR
VERSION:2.0
PRODID:-//ChamberMaster//Event Calendar 2.0//EN
METHOD:PUBLISH
X-PUBLISHED-TTL:P3D
REFRESH-INTERVAL:P3D
CALSCALE:GREGORIAN
BEGIN:VEVENT
DTSTART:20240911T190000Z
DTEND:20240911T200000Z
X-MICROSOFT-CDO-ALLDAYEVENT:FALSE
SUMMARY:Leadership Lunch
DESCRIPTION:Join the Escondido Chamber of Commerce for our September Leadership Lunch!  Learn how the arts vitally impact our businesses and our community!\n\n\n\nGuest Speaker: Carol Rogers\n\nCarol Rogers\, Avid Supporter of Arts and Escondido.\n\nCarol currently serves as:\n\n  Escondido Public Art Commission Chair\n\n  Board member Escondido Downtown Business Association\n\n  Committee member Esco Alley Art\n\n  Facilitator   MAGEC (Museums and Arts Growing Escondido Culture)\n\nCarol is presently a fulltime volunteer. She built her network and developed her personal mission while\n\nworking alongside her husband in his Escondido based art glass studio and gallery\, "Stone and Glass".\n\nPreviously she was VP of Operations at Progressive Technology\, VP at TMP Services and Western Region\n\nVP of Operations with WMI Services. This experience is the base for Carol's team building and\n\ncollaborative approach to leading projects and making things happen. Early in Carol's professional career\n\nshe also owned a retail travel agency specializing in honeymoon destinations\, and co-hosted a caller\n\ndriven radio talk show "Travel Talk" on KFBK in Sacramento. Travel remains a passion for Carol today.
X-ALT-DESC;FMTTYPE=text/html:<p>Join the Escondido Chamber of Commerce for our September Leadership Lunch!&nbsp\; Learn how the arts vitally impact our businesses and our community!<br />\n<br />\nGuest Speaker: Carol Rogers</p>\n\n<p>Carol Rogers\, Avid Supporter of Arts and Escondido.<br />\nCarol currently serves as:<br />\n&#61623\; Escondido Public Art Commission Chair<br />\n&#61623\; Board member Escondido Downtown Business Association<br />\n&#61623\; Committee member Esco Alley Art<br />\n&#61623\; Facilitator &ndash\; MAGEC (Museums and Arts Growing Escondido Culture)<br />\nCarol is presently a fulltime volunteer. She built her network and developed her personal mission while<br />\nworking alongside her husband in his Escondido based art glass studio and gallery\, &ldquo\;Stone and Glass&rdquo\;.<br />\nPreviously she was VP of Operations at Progressive Technology\, VP at TMP Services and Western Region<br />\nVP of Operations with WMI Services. This experience is the base for Carol&rsquo\;s team building and<br />\ncollaborative approach to leading projects and making things happen. Early in Carol&rsquo\;s professional career<br />\nshe also owned a retail travel agency specializing in honeymoon destinations\, and co-hosted a caller<br />\ndriven radio talk show &ldquo\;Travel Talk&rdquo\; on KFBK in Sacramento. Travel remains a passion for Carol today.</p>\n
LOCATION:Escondido Chamber of Commerce 720 N Broadway Escondido\, CA 92025
UID:e.799.8757
SEQUENCE:3
DTSTAMP:20260421T204236Z
URL:https://business.escondidochamber.org/events/details/leadership-lunch-8757
END:VEVENT

END:VCALENDAR
