BEGIN:VCALENDAR
VERSION:2.0
PRODID:-//ChamberMaster//Event Calendar 2.0//EN
METHOD:PUBLISH
X-PUBLISHED-TTL:P3D
REFRESH-INTERVAL:P3D
CALSCALE:GREGORIAN
BEGIN:VEVENT
DTSTART:20241113T200000Z
DTEND:20241113T210000Z
X-MICROSOFT-CDO-ALLDAYEVENT:FALSE
SUMMARY:Leadership Luncheon
DESCRIPTION:Join the Escondido Chamber of Commerce for our November Leadership Lunch!  \n\nGuest Speaker: Teresa Cervantes of Five Rings Financial\n\n\n\n\n\nAbout Teresa: \n\n"I chose to be a financial professional because I believe in the importance of financial literacy and empowerment. I wanted to help serve families and business owners in America\, because I believe everyone deserves access to quality financial advice and resources\, regardless of their income or background.  That's why I offer a range of life insurance policies designed to provide the peace of mind you deserve.  Let me guide you through the process of finding the right policy that aligns with your specific needs and budget.\n\n \n\nLet us help you safeguard your family's future while you focus on living your best life.  Discover the peace of mind that comes with having the right financial plan in place\n\n \n\nAs a dedicated and experienced financial professional\, I'm ready to guide you on your financial journey.  Let's work together to build and safeguard your future!"
X-ALT-DESC;FMTTYPE=text/html:<p>Join the Escondido Chamber of Commerce for our November&nbsp\;Leadership Lunch!&nbsp\;&nbsp\;</p>\n\n<p>Guest Speaker:<strong><span style="font-size:14px\;">&nbsp\;<span style="font-family:times new roman\;">Teresa Cervantes of Five Rings Financial</span></span></strong><br />\n<br />\n<br />\nAbout Teresa:&nbsp\;<br />\n<span style="font-family:times new roman\;">&quot\;I chose to be a financial professional because I believe in the importance of financial literacy and empowerment. I wanted to help serve families and business owners in America\, because I believe everyone deserves access to quality financial advice and resources\, regardless of their income or background.&nbsp\; That&rsquo\;s why I offer a range of life insurance policies designed to provide the peace of mind you deserve.&nbsp\; Let me guide you through the process of finding the right policy that aligns with your specific needs and budget.<br />\n&nbsp\;<br />\nLet us help you safeguard your family&rsquo\;s future while you focus on living your best life.&nbsp\; Discover the peace of mind that comes with having the right financial plan in place<br />\n&nbsp\;<br />\nAs a dedicated and experienced financial professional\, I&rsquo\;m ready to guide you on your financial journey.&nbsp\; Let&rsquo\;s work together to build and safeguard your future!&quot\;</span><br />\n&nbsp\;</p>\n\n<p>&nbsp\;</p>\n
LOCATION:Escondido Chamber of Commerce 720 N Broadway Escondido\, CA 92025
UID:e.799.8777
SEQUENCE:3
DTSTAMP:20260422T002104Z
URL:https://business.escondidochamber.org/events/details/leadership-luncheon-8777
END:VEVENT

END:VCALENDAR
