BEGIN:VCALENDAR
VERSION:2.0
PRODID:-//ChamberMaster//Event Calendar 2.0//EN
METHOD:PUBLISH
X-PUBLISHED-TTL:P3D
REFRESH-INTERVAL:P3D
CALSCALE:GREGORIAN
BEGIN:VEVENT
DTSTART:20250219T200000Z
DTEND:20250219T210000Z
X-MICROSOFT-CDO-ALLDAYEVENT:FALSE
SUMMARY:Leadership Luncheon w/Gina Lopez
DESCRIPTION:The Escondido Chamber of Commerce is committed to equipping\, supporting\, and empowering our business community. The Leadership Luncheon provides opportunities to learn from influential business and community leaders who will motivate and provide practical tools to help businesses thrive and make our city better. It is a platform for connection\, guidance\, and building encouraging and lasting relationships through community.\n\n\n\nThis Month: Please join us for an educational presentation and relevant conversation on Leadership on Wednesday\, Feb 19th\, 2025 from 12:00pm to 1:00pm at the Escondido Chamber of Commerce. Our special guest speaker will be Gina Lopez CEO of the California Center for the Arts Escondido
X-ALT-DESC;FMTTYPE=text/html:<span style="font-size: 16px\;"><span style="font-family: verdana\;"><em>The Escondido Chamber of Commerce is committed to equipping\, supporting\, and empowering our business community. The&nbsp\;<strong>Leadership Luncheon</strong>&nbsp\;provides opportunities to learn from influential business and community leaders who will motivate and provide practical tools to help businesses thrive and make our city better. It is a platform for connection\, guidance\, and building encouraging and lasting relationships through community.</em><br />\n<br />\n<strong>This</strong>&nbsp\;<strong>Month:</strong>&nbsp\;Please join us for an educational presentation and relevant conversation on Leadership on Wednesday\, Feb 19th\, 2025 from 12:00pm to 1:00pm at the Escondido Chamber of Commerce. Our special guest speaker will be <b>Gina Lopez CEO of the California Center for the Arts Escondido</b>&nbsp\;</span></span><br />\n<br />\n&nbsp\;
LOCATION:Escondido Chamber of Commerce 720 N. Broadway Escondido\, CA 92025
UID:e.799.9118
SEQUENCE:3
DTSTAMP:20260420T183814Z
URL:https://business.escondidochamber.org/events/details/leadership-luncheon-w-gina-lopez-9118
END:VEVENT

END:VCALENDAR
