BEGIN:VCALENDAR
VERSION:2.0
PRODID:-//ChamberMaster//Event Calendar 2.0//EN
METHOD:PUBLISH
X-PUBLISHED-TTL:P3D
REFRESH-INTERVAL:P3D
CALSCALE:GREGORIAN
BEGIN:VEVENT
DTSTART:20260324T190000Z
DTEND:20260324T203000Z
X-MICROSOFT-CDO-ALLDAYEVENT:FALSE
SUMMARY:Lunch Bunch
DESCRIPTION:Lunch Bunch\n\nTaking a lunch break? Make it meaningful.\n\nJoin fellow Chamber members and local professionals for a relaxed lunch where great food meets great connections. Lunch Bunch is all about building relationships\, supporting one of our member restaurants\, and strengthening our local business community   all with no agenda and no pressure.\n\nJust lunch\, conversation\, and networking.
X-ALT-DESC;FMTTYPE=text/html:<p>&nbsp\;</p>\n\n<h3><span style="font-size:18px\;"><span style="font-family:comic sans ms\;"><strong>Lunch Bunch</strong></span></span></h3>\n\n<p><span style="font-size:18px\;"><span style="font-family:comic sans ms\;">Taking a lunch break? Make it meaningful.</span></span></p>\n\n<p><span style="font-size:18px\;"><span style="font-family:comic sans ms\;">Join fellow Chamber members and local professionals for a relaxed lunch where great food meets great connections. Lunch Bunch is all about building relationships\, supporting one of our member restaurants\, and strengthening our local business community &mdash\; all with no agenda and no pressure.</span></span></p>\n\n<p><span style="font-size:18px\;"><span style="font-family:comic sans ms\;">Just lunch\, conversation\, and networking.</span></span></p>\n\n<p>&nbsp\;</p>\n
LOCATION:Swami's Cafe 503 W Grand Ave\, Escondido\, CA 92025
UID:e.799.9560
SEQUENCE:3
DTSTAMP:20260424T182914Z
URL:https://business.escondidochamber.org/events/details/lunch-bunch-9560
END:VEVENT

END:VCALENDAR
