BEGIN:VCALENDAR
VERSION:2.0
PRODID:-//ChamberMaster//Event Calendar 2.0//EN
METHOD:PUBLISH
X-PUBLISHED-TTL:P3D
REFRESH-INTERVAL:P3D
CALSCALE:GREGORIAN
BEGIN:VEVENT
DTSTART;VALUE=DATE:20260310
DTEND;VALUE=DATE:20260401
TRANSP:TRANSPARENT
X-MICROSOFT-CDO-ALLDAYEVENT:TRUE
SUMMARY:March Business Pulse Survey
DESCRIPTION:Escondido Chamber Business Pulse Check    \n\nPurpose:\n\nTo better understand current business conditions\, city collaboration\, and priorities so we can advocate effectively on your behalf.  Want to Hear From You!\n\nYour feedback helps the Chamber advocate for policies and solutions that support local businesses.\n\nTake the survey HERE
X-ALT-DESC;FMTTYPE=text/html:<div style="color: rgb(31\, 31\, 31)\; font-family: docs-Roboto\; font-size: 14.6667px\; white-space-collapse: preserve\; background-color: rgb(255\, 255\, 255)\;"><span style="font-size:20px\;">Escondido Chamber Business Pulse Check &ndash\;&nbsp\;&nbsp\;</span></div>\n\n<div style="color: rgb(31\, 31\, 31)\; font-family: docs-Roboto\; font-size: 14.6667px\; white-space-collapse: preserve\; background-color: rgb(255\, 255\, 255)\;"><span style="font-size:20px\;"><b>Purpose:</b><br />\nTo better understand current business conditions\, city collaboration\, and priorities so we can advocate effectively on your behalf.&nbsp\;&nbsp\;Want to Hear From You!</span></div>\n\n<div style="color: rgb(31\, 31\, 31)\; font-family: docs-Roboto\; font-size: 14.6667px\; white-space-collapse: preserve\; background-color: rgb(255\, 255\, 255)\;"><span style="font-size:20px\;">Your feedback helps the Chamber advocate for policies and solutions that support local businesses.<br />\nTake the survey <a href="https://forms.gle/5i74YwoeV8TNaAe36">HERE</a></span></div>\n
LOCATION:Click on the QR code to take the survey
UID:e.799.9565
SEQUENCE:3
DTSTAMP:20260424T183122Z
URL:https://business.escondidochamber.org/events/details/march-business-pulse-survey-9565
END:VEVENT

END:VCALENDAR
