BEGIN:VCALENDAR
VERSION:2.0
PRODID:-//ChamberMaster//Event Calendar 2.0//EN
METHOD:PUBLISH
X-PUBLISHED-TTL:P3D
REFRESH-INTERVAL:P3D
CALSCALE:GREGORIAN
BEGIN:VEVENT
DTSTART:20240925T230000Z
DTEND:20240926T020000Z
X-MICROSOFT-CDO-ALLDAYEVENT:FALSE
SUMMARY:North County Business Expo and Mega Mixer 9th Annual
DESCRIPTION:My San Diego North County presents the 9th Annual North County Business Expo and Mega Mixer at the California Center for the Arts\, Escondido Wednesday\, September 25\, from 4:00 to 7:00 pm.  \n\n\n\nCome and network with North County business professionals from Del Mar\, Solana Beach\, Encinitas\, Carlsbad\, Oceanside\, Vista\, San Marcos\, Fallbrook\, Valley Center\, Poway\, Rancho Bernardo\, Carmel Mountain\, Rancho Penasquitos\, Ramona and every community in between.  We are excited for the event and come visit the Escondido Chamber table and 40 other vendor tables at the expo.  Register online with Eventbrite online at www.mysdnc.com/expo
X-ALT-DESC;FMTTYPE=text/html:<font face="verdana"><span style="font-size: 16px\;"><b>My San Diego North County presents the 9th Annual North County Business Expo and Mega Mixer at the California Center for the Arts\, Escondido Wednesday\, September 25\, from 4:00 to 7:00 pm.&nbsp\;&nbsp\;<br />\n<br />\nCome and network with North County business professionals from Del Mar\, Solana Beach\, Encinitas\, Carlsbad\, Oceanside\, Vista\, San Marcos\, Fallbrook\, Valley Center\, Poway\, Rancho Bernardo\, Carmel Mountain\, Rancho Penasquitos\, Ramona and every community in between.&nbsp\; We are excited for the event and come visit the Escondido Chamber table and 40 other vendor tables at the expo.&nbsp\; Register online with Eventbrite online at <a href="https://www.mysdnc.com/expo">www.mysdnc.com/expo</a></b></span></font>
LOCATION:California Center for the Arts\, Escondido Conference Center 340 N. Broadway\, Escondido
UID:e.799.8750
SEQUENCE:3
DTSTAMP:20260421T204556Z
URL:https://business.escondidochamber.org/events/details/north-county-business-expo-and-mega-mixer-9th-annual-8750
END:VEVENT

END:VCALENDAR
