BEGIN:VCALENDAR
VERSION:2.0
PRODID:-//ChamberMaster//Event Calendar 2.0//EN
METHOD:PUBLISH
X-PUBLISHED-TTL:P3D
REFRESH-INTERVAL:P3D
CALSCALE:GREGORIAN
BEGIN:VEVENT
DTSTART:20240920T180000Z
DTEND:20240920T190000Z
X-MICROSOFT-CDO-ALLDAYEVENT:FALSE
SUMMARY:Ribbon Cutting at Best Pizza and Brew
DESCRIPTION:Join us for a Ribbon Cutting Ceremony for our newest member Best Pizza & Brew!\n\nBest Pizza and Brew was created by San Diegans for San Diegans. Independently owned and operated\, they have been serving up hot slices and cold pints to our fellow San Diego community since 2013. They pride themselves in exceptional customer service\, top notch ingredients\, and loyal Best Pizza customers that can be spotted just about anywhere in San Diego county!
X-ALT-DESC;FMTTYPE=text/html:<span style="font-size:18px\;">Join us for a Ribbon Cutting Ceremony for our newest member Best Pizza &amp\; Brew!</span><br />\n<span style="font-family: Montserrat\, sans-serif\; font-size: 19.6px\; text-align: center\; background-color: rgb(255\, 255\, 255)\;">Best Pizza and Brew was created by San Diegans for San Diegans. Independently owned and operated\, they have been serving up hot slices and cold pints to our fellow San Diego community since 2013. They pride themselves in exceptional customer service\, top notch ingredients\, and loyal Best Pizza customers that can be spotted just about anywhere in San Diego county!</span>
LOCATION:Best Pizza and Brew 311 E Valley Pkwy Escondido CA 92025
UID:e.799.8748
SEQUENCE:3
DTSTAMP:20260421T204459Z
URL:https://business.escondidochamber.org/events/details/ribbon-cutting-at-best-pizza-and-brew-8748
END:VEVENT

END:VCALENDAR
