BEGIN:VCALENDAR
VERSION:2.0
PRODID:-//ChamberMaster//Event Calendar 2.0//EN
METHOD:PUBLISH
X-PUBLISHED-TTL:P3D
REFRESH-INTERVAL:P3D
CALSCALE:GREGORIAN
BEGIN:VEVENT
DTSTART:20241206T180000Z
DTEND:20241207T070000Z
X-MICROSOFT-CDO-ALLDAYEVENT:FALSE
SUMMARY:Ribbon Cutting - Bear Roots Brewing Co.
DESCRIPTION:Join us in welcoming our newest member Bear Roots Brewing Co. Come celebrate with a Ribbon Cutting and toast to their success. \n\n \n\nBear Roots Brewing Co. was developed on the principles of craft beer. Their mission is to stay unique\, versatile\, and connect with our community.
X-ALT-DESC;FMTTYPE=text/html:<p><span style="font-family: Nunito\, sans-serif\; font-size: 18.2px\; text-align: center\; background-color: rgb(255\, 255\, 255)\;">Join us in welcoming our newest member Bear Roots Brewing Co. Come celebrate with a Ribbon Cutting and toast to their success.&nbsp\;</span></p>\n\n<div>&nbsp\;</div>\n\n<div><span style="font-family: Nunito\, sans-serif\; font-size: 18.2px\; text-align: center\; background-color: rgb(255\, 255\, 255)\;">Bear Roots Brewing Co. was developed on the principles of craft beer. Their mission is to stay unique\, versatile\, and connect with our community.&nbsp\;</span></div>\n
LOCATION:190 W. El Norte Parkway Escondido\, CA 92026
UID:e.799.8789
SEQUENCE:3
DTSTAMP:20260422T021842Z
URL:https://business.escondidochamber.org/events/details/ribbon-cutting-bear-roots-brewing-co-8789
END:VEVENT

END:VCALENDAR
