BEGIN:VCALENDAR
VERSION:2.0
PRODID:-//ChamberMaster//Event Calendar 2.0//EN
METHOD:PUBLISH
X-PUBLISHED-TTL:P3D
REFRESH-INTERVAL:P3D
CALSCALE:GREGORIAN
BEGIN:VEVENT
DTSTART:20241213T190000Z
DTEND:20241213T200000Z
X-MICROSOFT-CDO-ALLDAYEVENT:FALSE
SUMMARY:Ribbon Cutting - Flora Integrated Wellness
DESCRIPTION:Join is in celebrating Flora Integrated Wellness at the Ribbon Cutting!!  Flora Integrated Wellness focuses on multiple holistic treatments\, they offer a variety of detoxification treatments\, helping target the body?s detoxification outlets\, giving relief from constant health struggles and setting the groundwork for rebuilding a healthier lifestyle.\n\nhttps://floraintegratedwellness.com/
X-ALT-DESC;FMTTYPE=text/html:<p><span style="font-size:18px\;"><span style="font-family:tahoma\;">Join is in&nbsp\;celebrating&nbsp\;Flora Integrated Wellness at the Ribbon Cutting!!&nbsp\;<span id="docs-internal-guid-3f52c94b-7fff-0725-2c30-55a32ffed3bd"><span style="font-variant-numeric: normal\; font-variant-east-asian: normal\; font-variant-alternates: normal\; font-variant-position: normal\; vertical-align: baseline\; white-space-collapse: preserve\;">&nbsp\;Flora Integrated Wellness focuses on multiple holistic treatments\, they offer a variety of detoxification treatments\, helping target the body?s detoxification outlets\, giving relief from constant health struggles and setting the groundwork for rebuilding a healthier lifestyle.<br />\n<a href="https://floraintegratedwellness.com/">https://floraintegratedwellness.com/</a></span></span></span></span><br />\n&nbsp\;</p>\n
LOCATION:Flora Integrated Wellness 300 S. Escondido Blvd Ste. 103 Escondido\, CA 92025
UID:e.799.8778
SEQUENCE:3
DTSTAMP:20260422T022056Z
URL:https://business.escondidochamber.org/events/details/ribbon-cutting-flora-integrated-wellness-8778
END:VEVENT

END:VCALENDAR
