BEGIN:VCALENDAR
VERSION:2.0
PRODID:-//ChamberMaster//Event Calendar 2.0//EN
METHOD:PUBLISH
X-PUBLISHED-TTL:P3D
REFRESH-INTERVAL:P3D
CALSCALE:GREGORIAN
BEGIN:VEVENT
DTSTART:20250110T190000Z
DTEND:20250110T200000Z
X-MICROSOFT-CDO-ALLDAYEVENT:FALSE
SUMMARY:Ribbon Cutting - Majesty Medspa and Skin Care Center
DESCRIPTION:Join is in celebrating Majesty Medspa and Skin Care Center at their Ribbon Cutting Ceremony!! \n\nAt Majesty Medspa and Skin Care Center\, they specialize in advanced skin care and rejuvenation treatments to help you look and feel your best. Their services include Botox for wrinkle reduction and youthful\, smooth skin\, microneedling for enhanced skin texture and tone with collagen boosting\, and wet cupping for detoxification and improved circulation. With a focus on personalized care and using the latest techniques\, our experienced team is dedicated to delivering safe\, effective treatments that leave you glowing. Visit them today to experience a rejuvenating journey tailored to your unique needs.\n\nhttps://majestymedspa.com/
X-ALT-DESC;FMTTYPE=text/html:<p><span style="font-size:20px\;"><span style="font-family:arial\;">Join is in&nbsp\;celebrating Majesty Medspa and Skin Care Center at their Ribbon Cutting Ceremony!!&nbsp\;</span></span></p>\n\n<div dir="auto" style="color: rgb(34\, 34\, 34)\; font-family: Arial\, Helvetica\, sans-serif\; font-size: small\; background-color: rgb(255\, 255\, 255)\;"><span style="font-size:20px\;"><span style="font-family:arial\;">At Majesty Medspa and Skin Care Center\, they specialize in advanced skin care and rejuvenation treatments to help you look and feel your best. Their services include Botox for wrinkle reduction and youthful\, smooth skin\, microneedling for enhanced skin texture and tone with collagen boosting\, and wet cupping for detoxification and improved circulation. With a focus on personalized care and using the latest techniques\, our experienced team is dedicated to delivering safe\, effective treatments that leave you glowing. Visit them today to experience a rejuvenating journey tailored to your unique needs.</span></span></div>\n\n<p><span style="font-size:20px\;"><span style="font-family:arial\;">https://majestymedspa.com/</span></span></p>\n
LOCATION:Majesty Medspa and Skin Care Center 1870 W El Norte Pkwy Escondido\, CA 92026
UID:e.799.8841
SEQUENCE:3
DTSTAMP:20260422T042920Z
URL:https://business.escondidochamber.org/events/details/ribbon-cutting-majesty-medspa-and-skin-care-center-8841
END:VEVENT

END:VCALENDAR
