BEGIN:VCALENDAR
VERSION:2.0
PRODID:-//ChamberMaster//Event Calendar 2.0//EN
METHOD:PUBLISH
X-PUBLISHED-TTL:P3D
REFRESH-INTERVAL:P3D
CALSCALE:GREGORIAN
BEGIN:VEVENT
DTSTART:20250123T200000Z
DTEND:20250123T210000Z
X-MICROSOFT-CDO-ALLDAYEVENT:FALSE
SUMMARY:Ribbon Cutting - Remax Excellence
DESCRIPTION:Join us in celebrating the success of Remax Excellence\, a real estate company committed to putting your best interests first!\n\n\n\nBe a part of this special moment as Remax Excellence opens their doors to serve you with excellence and dedication.
X-ALT-DESC;FMTTYPE=text/html:<p><span style="font-size:24px\;"><span style="font-family:times new roman\;">Join us in celebrating the success of Remax Excellence\, a real estate company committed to putting your best interests first!<br />\n<br />\nBe a part of this special moment as Remax Excellence opens their doors to serve you with excellence and dedication.&nbsp\;</span></span></p>\n
LOCATION:333 S. Juniper Street Escondido\, CA 92025
UID:e.799.8787
SEQUENCE:3
DTSTAMP:20260422T041752Z
URL:https://business.escondidochamber.org/events/details/ribbon-cutting-remax-excellence-8787
END:VEVENT

END:VCALENDAR
