BEGIN:VCALENDAR
VERSION:2.0
PRODID:-//ChamberMaster//Event Calendar 2.0//EN
METHOD:PUBLISH
X-PUBLISHED-TTL:P3D
REFRESH-INTERVAL:P3D
CALSCALE:GREGORIAN
BEGIN:VEVENT
DTSTART:20250110T180000Z
DTEND:20250110T190000Z
X-MICROSOFT-CDO-ALLDAYEVENT:FALSE
SUMMARY:Ribbon Cutting - Scenthound
DESCRIPTION:Join us in celebrating Scenthound's ribbon cutting celebration. \n\nNot a traditional dog groomer \n\nMaintaining a hygiene routine is crucial to the overall health of your dog.\n\nScenthound is an essential\, trusted provider of hygiene and wellness care. They offer a quick and affordable core package of services\, including bathing\, ear cleaning\, nail trimming\, and teeth brushing   the essentials for a clean and healthy dog. You can purchase additional services\, like blow-drying\, haircuts\, or other treatments as needed. Make it a monthly routine for your dog's wellness!
X-ALT-DESC;FMTTYPE=text/html:<p><span style="font-size:24px\;"><span style="font-family:tahoma\;">Join us in&nbsp\;celebrating Scenthound&#39\;s ribbon cutting celebration.&nbsp\;<br />\n<span style="color:black\;">Not a traditional dog groomer&hellip\;</span><br />\n<span style="color:black\;">Maintaining a hygiene routine is crucial to the overall health of your dog.</span><br />\n<span style="color:black\;">Scenthound is an essential\, trusted provider of hygiene and wellness care. They offer a quick and affordable core package of&nbsp\;<u><a data-saferedirecturl="https://www.google.com/url?q=https://www.scenthound.com/services&amp\;source=gmail&amp\;ust=1734622571399000&amp\;usg=AOvVaw0YxUiM7K-jb8Bs473r2G5E" href="https://www.scenthound.com/services" style="color:rgb(17\, 85\, 204)\;" target="_blank">services</a></u>\, including bathing\, ear cleaning\, nail trimming\, and teeth brushing &mdash\; the essentials for a clean and healthy dog. You can purchase additional services\, like blow-drying\, haircuts\, or other treatments as needed. Make it a monthly routine for your dog&rsquo\;s wellness!</span></span></span><br />\n&nbsp\;</p>\n
LOCATION:322 West El Norte Parkway Suite E Escondido\, CA 92026
UID:e.799.8842
SEQUENCE:3
DTSTAMP:20260422T041059Z
URL:https://business.escondidochamber.org/events/details/ribbon-cutting-scenthound-8842
END:VEVENT

END:VCALENDAR
