BEGIN:VCALENDAR
VERSION:2.0
PRODID:-//ChamberMaster//Event Calendar 2.0//EN
METHOD:PUBLISH
X-PUBLISHED-TTL:P3D
REFRESH-INTERVAL:P3D
CALSCALE:GREGORIAN
BEGIN:VEVENT
DTSTART:20250303T230000Z
DTEND:20250304T000000Z
X-MICROSOFT-CDO-ALLDAYEVENT:FALSE
SUMMARY:Ribbon Cutting - SunnySide Kitchen's 10th Year Anniversary
DESCRIPTION:Join us in celebrating Sunny Side Kitchen's 10th year anniversary!!  Sunny Side Kitchen\, where they're all about panini -- cheesy\, grilled\, made-to-order\n\nsandwiches featuring the best local ingredients they can find. Let's celebrate this milestone and cheer to America's best breakfast sandwich!
X-ALT-DESC;FMTTYPE=text/html:<p><span style="font-size:20px\;"><span style="font-family:times new roman\;"><span style="text-align: center\; background-color: rgb(255\, 255\, 255)\;">Join us in celebrating Sunny Side Kitchen&#39\;s 10th year anniv</span></span></span><span style="font-size:20px\;"><span style="font-family:times new roman\;"><span style="text-align: center\; background-color: rgb(255\, 255\, 255)\;">ersary!!&nbsp\;&nbsp\;</span><span style="margin: 0px\; padding: 0px\; border: 0px\; font-variant-numeric: inherit\; font-variant-east-asian: inherit\; font-variant-alternates: inherit\; font-variant-position: inherit\; font-variant-emoji: inherit\; font-stretch: inherit\; line-height: inherit\; font-optical-sizing: inherit\; font-size-adjust: inherit\; font-kerning: inherit\; font-feature-settings: inherit\; font-variation-settings: inherit\; vertical-align: baseline\; color: rgb(45\, 46\, 47)\;">Sunny Side Kitchen\, where they&#39\;re all about panini -- cheesy\, grilled\, made-to-order</span><br style="color: rgb(45\, 46\, 47)\; font-family: &quot\;Open Sans&quot\;\, &quot\;Helvetica Neue&quot\;\, Helvetica\, Arial\, sans-serif\; font-size: 16px\;" />\n<span style="margin: 0px\; padding: 0px\; border: 0px\; font-variant-numeric: inherit\; font-variant-east-asian: inherit\; font-variant-alternates: inherit\; font-variant-position: inherit\; font-variant-emoji: inherit\; font-stretch: inherit\; line-height: inherit\; font-optical-sizing: inherit\; font-size-adjust: inherit\; font-kerning: inherit\; font-feature-settings: inherit\; font-variation-settings: inherit\; vertical-align: baseline\; color: rgb(45\, 46\, 47)\;">sandwiches featuring the best local ingredients they can find. Let&#39\;s celebrate this milestone and cheer to America&#39\;s best breakfast sandwich!</span></span></span></p>\n
LOCATION:155 S Orange St. Escondido\, CA 92025
UID:e.799.9131
SEQUENCE:3
DTSTAMP:20260420T221309Z
URL:https://business.escondidochamber.org/events/details/ribbon-cutting-sunnyside-kitchen-s-10th-year-anniversary-9131
END:VEVENT

END:VCALENDAR
