BEGIN:VCALENDAR
VERSION:2.0
PRODID:-//ChamberMaster//Event Calendar 2.0//EN
METHOD:PUBLISH
X-PUBLISHED-TTL:P3D
REFRESH-INTERVAL:P3D
CALSCALE:GREGORIAN
BEGIN:VEVENT
DTSTART:20251205T200000Z
DTEND:20260104T040000Z
X-MICROSOFT-CDO-ALLDAYEVENT:FALSE
SUMMARY:Ups and Downtown Roller Rink
DESCRIPTION:*** Days and Times vary.  See below for the schedule.\n\nUps and Downtown Roller Rink: Grand Avenue transforms into the ultimate skate destination with a pop-up rink right in the middle of downtown!\n\nLace up your skates and roll into the fun! Downtown Escondido transforms Grand Avenue into the ultimate skate destination with a temporary rink made of sport court tiles\, right in the middle of the street. Seasoned skaters and first-timers glide\, spin\, and groove to great tunes with friends and family. Bring your own skates or rent a pair on-site.  A limited supply of youth protective gear is available. Please bring your own if you have it.
X-ALT-DESC;FMTTYPE=text/html:<span style="color: rgb(0\, 0\, 0)\; font-size: 12pt\; font-family: &quot\;Times New Roman&quot\;\, serif\;">*** Days and Times vary.&nbsp\; See below for the schedule.<br />\nUps and Downtown Roller Rink: Grand Avenue transforms into the ultimate skate destination with a pop-up rink right in the middle of downtown!</span><br />\nLace up your skates and roll into the fun! Downtown Escondido transforms Grand Avenue into the ultimate skate destination with a temporary rink made of sport court tiles\, right in the middle of the street. Seasoned skaters and first-timers glide\, spin\, and groove to great tunes with friends and family. Bring your own skates or rent a pair on-site.&nbsp\; A limited supply of youth protective gear is available. Please bring your own if you have it.<br />\n&nbsp\;
LOCATION:Ups and Downtown Roller Rink December 5 January 3 Thursdays & Fridays: 4-8 p.m.\, Saturdays: 12-8 p.m.\, Sundays: 12-4 p.m. Location: Maple Street\, south of Grand Avenue
UID:e.799.9506
SEQUENCE:3
DTSTAMP:20260424T221108Z
URL:https://business.escondidochamber.org/events/details/ups-and-downtown-roller-rink-9506
END:VEVENT

END:VCALENDAR
