BEGIN:VCALENDAR
VERSION:2.0
PRODID:-//ChamberMaster//Event Calendar 2.0//EN
METHOD:PUBLISH
X-PUBLISHED-TTL:P3D
REFRESH-INTERVAL:P3D
CALSCALE:GREGORIAN
BEGIN:VEVENT
DTSTART:20240920T150000Z
DTEND:20240920T163000Z
X-MICROSOFT-CDO-ALLDAYEVENT:FALSE
SUMMARY:Wake Up Escondido
DESCRIPTION:Wake Up Escondido is the place to be if you want to connect with like-minded business professionals.  The morning networking event gives you a chance to mix\, mingle and network with Chamber Members and other Business Leaders. Your business will have the opportunity to highlight its achievements and services to a group of gathered professionals from various industries.\n\n\n\nThis Month:\n\nRise and Connect: "Brewing Success Together"\n\nIf you would like to be a sponsor of bagels or pastries\, please email info@escondidochamber.org\n\nSponsors receive extended speaking opportunities\, brand visibility and social media promotion.\n\n\n\nSmall Business Development Center\, Business Advisor\, David Zumaya leads the networking.  SBDC provides small business resourcess and one on one advising. If your business can use help or if you are starting anew business\, visit www.SDIVSBDC.org to learn more
X-ALT-DESC;FMTTYPE=text/html:<p><span style="font-size:18px\;"><span style="font-family: verdana\;">Wake Up Escondido is the place to be if you want to connect with like-minded business professionals.&nbsp\; The morning networking event gives you a chance to mix\, mingle and network&nbsp\;with Chamber Members and other Business Leaders.&nbsp\;Your business will have the opportunity to highlight its achievements and services to a group of gathered professionals from various industries.<br />\n<br />\n<strong>This Month:</strong></span></span></p>\n\n<p><span style="font-size: 18px\;"><b>Rise and Connect: &quot\;Brewing Success Together&quot\;</b></span></p>\n\n<p><span style="font-size:18px\;"><span style="font-family: verdana\;"><span style="line-height: 1.5\; font-variant-numeric: normal\; font-variant-east-asian: normal\; font-stretch: normal\;">If you would like to be a sponsor of bagels or pastries\, please email info@escondidochamber.org<br />\nSponsors receive extended speaking opportunities\, brand visibility and social media promotion.<br />\n<br />\nSmall Business Development Center\, Business Advisor\, David Zumaya leads the networking.&nbsp\; SBDC provides small business resourcess and one on one advising. If your business can use help or if you are starting anew business\, visit www.SDIVSBDC.org to learn more</span></span></span><br />\n&nbsp\;</p>\n
LOCATION:720 N. Broadway Escondido\, CA 90205
UID:e.799.8272
SEQUENCE:3
DTSTAMP:20260421T204427Z
URL:https://business.escondidochamber.org/events/details/wake-up-escondido-09-13-2024-8272
END:VEVENT

END:VCALENDAR
