BEGIN:VCALENDAR
VERSION:2.0
PRODID:-//ChamberMaster//Event Calendar 2.0//EN
METHOD:PUBLISH
X-PUBLISHED-TTL:P3D
REFRESH-INTERVAL:P3D
CALSCALE:GREGORIAN
BEGIN:VEVENT
DTSTART:20250131T013000Z
DTEND:20250131T033000Z
X-MICROSOFT-CDO-ALLDAYEVENT:FALSE
SUMMARY:Women 360 Degrees Panel & Mixer
DESCRIPTION:Join us for the Women 360 Degrees Panel and Mixer at Chase Bank! This event is brought to you by My San Diego North County\, Escondido Chamber of Commerce\, Latino Business Coalition\, CHASE and MANA de North County. Get ready to be inspired by a diverse group of women sharing their experiences and insights. Amazing panelists represented different fields\, technology\, healthcare\, entrepreneurship\, community\, business development and more! This event is all about empowerment\, networking\, and fun! Don't miss this opportunity to connect with like-minded entrepreneurs and expand your circle. Mark your calendars and come ready to engage\, learn\, and grow together!\n\n\n\nPlease register through Eventbrite\n\nhttps://www.eventbrite.com/e/women-360-degrees-panel-and-mixer-tickets-1135725528629?internal_ref=social
X-ALT-DESC;FMTTYPE=text/html:<span style="font-family: &quot\;Neue Plak&quot\;\, -apple-system\, BlinkMacSystemFont\, Roboto\, &quot\;Helvetica Neue&quot\;\, Helvetica\, Tahoma\, Arial\, sans-serif\; font-size: 16px\; background-color: rgb(255\, 255\, 255)\;">Join us for the&nbsp\;</span><span style="font-weight: 700\; box-sizing: border-box\; padding-top: 0px\; font-family: &quot\;Neue Plak&quot\;\, -apple-system\, BlinkMacSystemFont\, Roboto\, &quot\;Helvetica Neue&quot\;\, Helvetica\, Tahoma\, Arial\, sans-serif\; font-size: 16px\; background-color: rgb(255\, 255\, 255)\;"><span style="box-sizing: border-box\; padding-top: 0px\;">Women 360 Degrees Panel and Mixer</span></span><span style="font-family: &quot\;Neue Plak&quot\;\, -apple-system\, BlinkMacSystemFont\, Roboto\, &quot\;Helvetica Neue&quot\;\, Helvetica\, Tahoma\, Arial\, sans-serif\; font-size: 16px\; background-color: rgb(255\, 255\, 255)\;">&nbsp\;at&nbsp\;</span><span style="font-weight: 700\; box-sizing: border-box\; font-family: &quot\;Neue Plak&quot\;\, -apple-system\, BlinkMacSystemFont\, Roboto\, &quot\;Helvetica Neue&quot\;\, Helvetica\, Tahoma\, Arial\, sans-serif\; font-size: 16px\; background-color: rgb(255\, 255\, 255)\;"><span style="box-sizing: border-box\; padding-top: 0px\;">Chase Bank</span></span><span style="font-family: &quot\;Neue Plak&quot\;\, -apple-system\, BlinkMacSystemFont\, Roboto\, &quot\;Helvetica Neue&quot\;\, Helvetica\, Tahoma\, Arial\, sans-serif\; font-size: 16px\; background-color: rgb(255\, 255\, 255)\;">! This event is brought to you by My San Diego North County\, Escondido Chamber of Commerce\, Latino Business Coalition\, CHASE and MANA de North County. Get ready to be inspired by a diverse group of women sharing their experiences and insights. Amazing panelists represented different fields\, technology\, healthcare\, entrepreneurship\, community\, business development and more! This event is all about empowerment\, networking\, and fun! Don&#39\;t miss this opportunity to connect with like-minded entrepreneurs and expand your circle. Mark your calendars and come ready to engage\, learn\, and grow together!<br />\n<br />\n<span style="font-size:22px\;"><span style="color:#FF0000\;"><strong>Please register through Eventbrite</strong></span></span></span><br />\nhttps://www.eventbrite.com/e/women-360-degrees-panel-and-mixer-tickets-1135725528629?internal_ref=social
LOCATION:Chase Bank 150 North Centre City Parkway Escondido\, CA 92025
UID:e.799.9115
SEQUENCE:3
DTSTAMP:20260420T164257Z
URL:https://business.escondidochamber.org/events/details/women-360-degrees-panel-mixer-9115
END:VEVENT

END:VCALENDAR
