BEGIN:VCALENDAR
VERSION:2.0
PRODID:-//ChamberMaster//Event Calendar 2.0//EN
METHOD:PUBLISH
X-PUBLISHED-TTL:P3D
REFRESH-INTERVAL:P3D
CALSCALE:GREGORIAN
BEGIN:VEVENT
DTSTART:20250219T010000Z
DTEND:20250219T030000Z
X-MICROSOFT-CDO-ALLDAYEVENT:FALSE
SUMMARY:Young Professionals Mixer: Cupid's Connections-Speed Networking
DESCRIPTION:This month's Young Professionals Mixer: "Cupid's Connections-Speed Networking"\n\n\n\nWe're bringing a fun twist to professional networking! Join us at the California Center For the Arts Escondido for a high-energy speed networking event designed to help you make meaningful connections fast! Discover the art of netweaving and how building relationships\, not just contacts\, can lead to long-term success.\n\nDon't miss this exciting opportunity to grow your network and spark new collaborations reserve your spot now! \n\nWhat to Expect:\n\n\n	Hear from David Zumaya of My San Diego North County on the art of networking and what net-weaving is.\n	Networking Opportunities: Connect with like-minded professionals ready to support and inspire you.\n	Enjoy delicious bites hosted by CCAE\n	No Host Bar \n\n\n\nWho Should Attend: Young Professionals\, Entrepreneurs\, and anyone ready to learn more!
X-ALT-DESC;FMTTYPE=text/html:<div class="m_-5274178760469621448gmail-m_6581572741167846660MsoListParagraph" style="font-family: &quot\;times new roman&quot\;\, serif\; font-size: 12pt\; margin: 0in 0in 0.0001pt 0.5in\;"><span style="font-size:20px\;"><span style="font-family:arial\;">This month&#39\;s Young Professionals Mixer: &quot\;Cupid&#39\;s Connections-Speed Networking&quot\;</span></span></div>\n\n<div class="m_-5274178760469621448gmail-m_6581572741167846660MsoListParagraph" style="margin: 0in 0in 0.0001pt 0.5in\; color: rgb(34\, 34\, 34)\; background-color: rgb(255\, 255\, 255)\;">\n<div style="">\n<p dir="ltr" style="font-family: Arial\, Helvetica\, sans-serif\; font-size: small\; line-height: 2.4\; margin-top: 0pt\; margin-bottom: 0pt\;"><span style="font-size:20px\;"><span style="font-family:arial\;"><span id="docs-internal-guid-8db7bed8-7fff-3e5b-cf8b-e6e5cfa44567"><span style="font-variant-numeric: normal\; font-variant-east-asian: normal\; font-variant-alternates: normal\; font-variant-position: normal\; font-variant-emoji: normal\; vertical-align: baseline\; white-space-collapse: preserve\;">We&rsquo\;re bringing a fun twist to professional networking! Join us at the California Center For the Arts Escondido for a high-energy speed networking event designed to help you make meaningful connections fast! Discover the art of </span><span style="font-weight: 700\; font-variant-numeric: normal\; font-variant-east-asian: normal\; font-variant-alternates: normal\; font-variant-position: normal\; font-variant-emoji: normal\; vertical-align: baseline\; white-space-collapse: preserve\;">netweaving</span><span style="font-variant-numeric: normal\; font-variant-east-asian: normal\; font-variant-alternates: normal\; font-variant-position: normal\; font-variant-emoji: normal\; vertical-align: baseline\; white-space-collapse: preserve\;"> and how building relationships\, not just contacts\, can lead to long-term success.</span></span></span></span></p>\n\n<p dir="ltr" style="font-family: Arial\, Helvetica\, sans-serif\; font-size: small\; line-height: 2.4\; margin-top: 12pt\; margin-bottom: 12pt\;"><span style="font-size:20px\;"><span style="font-family:arial\;"><span id="docs-internal-guid-8db7bed8-7fff-3e5b-cf8b-e6e5cfa44567"><span style="font-variant-numeric: normal\; font-variant-east-asian: normal\; font-variant-alternates: normal\; font-variant-position: normal\; font-variant-emoji: normal\; vertical-align: baseline\; white-space-collapse: preserve\;">Don&rsquo\;t miss this exciting opportunity to grow your network and spark new collaborations&mdash\;reserve your spot now!&nbsp\;</span></span><br />\nWhat to Expect:</span></span></p>\n\n<ul style="">\n	<li style=""><span style="font-size:20px\;"><span style="font-family:arial\;">Hear from David Zumaya of My San Diego North County on<span id="docs-internal-guid-eca73b8d-7fff-b182-93f8-1ad39b647cce"><span style="font-variant-numeric: normal\; font-variant-east-asian: normal\; font-variant-alternates: normal\; font-variant-position: normal\; font-variant-emoji: normal\; vertical-align: baseline\; white-space-collapse: preserve\;"> the art of networking and what net-weaving is.</span></span></span></span></li>\n	<li style="font-family: Arial\, Helvetica\, sans-serif\; font-size: small\;"><span style="font-size:20px\;"><span style="font-family:arial\;">Networking Opportunities: Connect with like-minded professionals ready to support and inspire you.</span></span></li>\n	<li style="font-family: Arial\, Helvetica\, sans-serif\; font-size: small\;"><span style="font-size:20px\;"><span style="font-family:arial\;">Enjoy delicious&nbsp\;bites hosted by CCAE</span></span></li>\n	<li style="font-family: Arial\, Helvetica\, sans-serif\; font-size: small\;"><span style="font-size:20px\;"><span style="font-family:arial\;">No Host Bar&nbsp\;</span></span></li>\n</ul>\n</div>\n\n<div style="font-family: Arial\, Helvetica\, sans-serif\; font-size: small\;"><span style="font-size:20px\;"><span style="font-family:arial\;">Who Should Attend: Young Professionals\, Entrepreneurs\, and anyone ready to learn more!</span></span></div>\n</div>\n
LOCATION:California Center of the Arts Escondido 340 N Escondido Blvd\, Escondido\, CA 92025
UID:e.799.9116
SEQUENCE:3
DTSTAMP:20260420T184019Z
URL:https://business.escondidochamber.org/events/details/young-professionals-mixer-cupid-s-connections-speed-networking-9116
END:VEVENT

END:VCALENDAR
