BEGIN:VCALENDAR
VERSION:2.0
PRODID:-//ChamberMaster//Event Calendar 2.0//EN
METHOD:PUBLISH
X-PUBLISHED-TTL:P3D
REFRESH-INTERVAL:P3D
CALSCALE:GREGORIAN
BEGIN:VEVENT
DTSTART:20250319T000000Z
DTEND:20250319T020000Z
X-MICROSOFT-CDO-ALLDAYEVENT:FALSE
SUMMARY:Young Professionals Mixer: "Elevating Your Pot of Gold"
DESCRIPTION:Join us at to Elmisa Cafe this March! Grow your pot of gold with actionable marketing strategies to take your business to the next level! \n\nThis month's panelists:\n\nMarylin Muro\, owner of Impact Visual Marketing\, a digital marketing genius\, will lead this workshop\, sharing expert tips to attract clients\, boost visibility\, and achieve lasting success. \n\nDonaii Tone\, owner of No Light Advertising\, who passionately advocates for the transformative power of artificial intelligence in business operations. \n\nDon't miss this opportunity to uncover golden opportunities for your business reserve your spot today!
X-ALT-DESC;FMTTYPE=text/html:<div class="m_-5274178760469621448gmail-m_6581572741167846660MsoListParagraph" style="font-family: &quot\;times new roman&quot\;\, serif\; font-size: 12pt\; margin: 0in 0in 0.0001pt 0.5in\;">\n<p dir="ltr" style="line-height:2.4\;margin-top:0pt\;margin-bottom:0pt\;"><span style="font-size:20px\;"><span style="font-family:arial\;"><span id="docs-internal-guid-c4bc9682-7fff-0c0b-d19b-ad994f0c5143"><span style="font-variant-numeric: normal\; font-variant-east-asian: normal\; font-variant-alternates: normal\; font-variant-position: normal\; font-variant-emoji: normal\; vertical-align: baseline\; white-space-collapse: preserve\;">Join us at to<strong> Elmisa Cafe </strong>this March! Grow your pot of gold with actionable marketing strategies to take your business to the next level! </span><br />\n<span style="font-weight: 700\; font-variant-numeric: normal\; font-variant-east-asian: normal\; font-variant-alternates: normal\; font-variant-position: normal\; font-variant-emoji: normal\; vertical-align: baseline\; white-space-collapse: preserve\;">This month&#39\;s panelists:<br />\nMarylin Muro</span><span style="font-variant-numeric: normal\; font-variant-east-asian: normal\; font-variant-alternates: normal\; font-variant-position: normal\; font-variant-emoji: normal\; vertical-align: baseline\; white-space-collapse: preserve\;">\, owner of Impact Visual Marketing\, a digital marketing genius\, will lead this workshop\, sharing expert tips to attract clients\, boost visibility\, and achieve lasting success.&nbsp\;</span></span><br />\n<span style="color: rgb(34\, 34\, 34)\; background-color: rgb(255\, 255\, 255)\;"><strong>Donaii Tone\,</strong>&nbsp\;owner of No Light Advertising\,&nbsp\;who passionately advocates for the transformative power of artificial intelligence in business operations.&nbsp\;</span></span></span></p>\n\n<p dir="ltr" style="line-height:2.4\;margin-top:12pt\;margin-bottom:12pt\;"><span style="font-size:20px\;"><span style="font-family:arial\;"><span id="docs-internal-guid-c4bc9682-7fff-0c0b-d19b-ad994f0c5143"><span style="font-variant-numeric: normal\; font-variant-east-asian: normal\; font-variant-alternates: normal\; font-variant-position: normal\; font-variant-emoji: normal\; vertical-align: baseline\; white-space-collapse: preserve\;">Don&rsquo\;t miss this opportunity to uncover golden opportunities for your business&mdash\;reserve your spot today!</span></span></span></span></p>\n\n<div>&nbsp\;</div>\n</div>\n
LOCATION:Elmisa Cafe 880 W. Valley Parkway Escondido\, CA 92025
UID:e.799.9122
SEQUENCE:3
DTSTAMP:20260423T211831Z
URL:https://business.escondidochamber.org/events/details/young-professionals-mixer-elevating-your-pot-of-gold-9122
END:VEVENT

END:VCALENDAR
