BEGIN:VCALENDAR
VERSION:2.0
PRODID:-//ChamberMaster//Event Calendar 2.0//EN
METHOD:PUBLISH
X-PUBLISHED-TTL:P3D
REFRESH-INTERVAL:P3D
CALSCALE:GREGORIAN
BEGIN:VEVENT
DTSTART:20241120T010000Z
DTEND:20241120T030000Z
X-MICROSOFT-CDO-ALLDAYEVENT:FALSE
SUMMARY:Young Professionals Mixer “Friendsgiving: Business & Philanthropy”
DESCRIPTION:Who:  Escondido Chamber of Commerce YOUNG PROFESSIONALS ***disclaimer\, if you are over 40 but feel younger\, we won't ask to see your ID \;)\n	What: Friendsgiving\; Business & Philanthropy\n	Why:  Meet and hear from this month's Panelist talk about Love Esco and Friendly Business Tips from First Profit Payroll.  \n	Build a stronger sense of community\, Networking Event\, Build Contacts etc\n	 Guests are encouraged to bring perishable food donations \n	BUSINESS CARD RAFFLE! \n	This month's appetizer sponsor: The Repair Tech
X-ALT-DESC;FMTTYPE=text/html:<ul style="color: rgb(34\, 34\, 34)\; background-color: rgb(255\, 255\, 255)\; margin-bottom: 0in\; margin-top: 0in\;" type="disc">\n	<li class="m_-5274178760469621448gmail-m_6581572741167846660MsoListParagraph" style="font-family: &quot\;times new roman&quot\;\, serif\; font-size: 12pt\; margin: 0in 0in 0.0001pt 0.5in\;"><span style="font-size: 11pt\; font-family: calibri\, sans-serif\;">Who:&nbsp\; Escondido Chamber of Commerce YOUNG PROFESSIONALS ***disclaimer\, if you are over 40 but feel younger\, we won&rsquo\;t ask to see your ID \;)</span></li>\n	<li class="m_-5274178760469621448gmail-m_6581572741167846660MsoListParagraph" style="font-family: &quot\;times new roman&quot\;\, serif\; font-size: 12pt\; margin: 0in 0in 0.0001pt 0.5in\;"><span style="font-size: 11pt\; font-family: calibri\, sans-serif\;">What: Friendsgiving\;&nbsp\;Business &amp\; Philanthropy</span></li>\n	<li class="m_-5274178760469621448gmail-m_6581572741167846660MsoListParagraph" style="font-family: &quot\;times new roman&quot\;\, serif\; font-size: 12pt\; margin: 0in 0in 0.0001pt 0.5in\;"><span style="font-size: 11pt\; font-family: calibri\, sans-serif\;">Why:&nbsp\; Meet and hear from&nbsp\;this month&#39\;s Panelist&nbsp\;talk about&nbsp\;Love Esco and Friendly Business Tips from First Profit Payroll.&nbsp\;&nbsp\;</span></li>\n	<li class="m_-5274178760469621448gmail-m_6581572741167846660MsoListParagraph" style="font-family: &quot\;times new roman&quot\;\, serif\; font-size: 12pt\; margin: 0in 0in 0.0001pt 0.5in\;"><span style="font-size: 11pt\; font-family: calibri\, sans-serif\;">Build a stronger sense of community\, Networking Event\, Build Contacts&hellip\;etc</span></li>\n	<li class="m_-5274178760469621448gmail-m_6581572741167846660MsoListParagraph" style="font-family: &quot\;times new roman&quot\;\, serif\; font-size: 12pt\; margin: 0in 0in 0.0001pt 0.5in\;"><span style="font-size: 11pt\; font-family: calibri\, sans-serif\;"><font face="calibri\, sans-serif"><span style="font-size: 14.6667px\;">&nbsp\;Guests are encouraged to bring perishable food donations<span style="font-size: 11pt\; font-family: calibri\, sans-serif\;">&nbsp\;</span></span></font></span></li>\n	<li class="m_-5274178760469621448gmail-m_6581572741167846660MsoListParagraph" style="font-family: &quot\;times new roman&quot\;\, serif\; font-size: 12pt\; margin: 0in 0in 0.0001pt 0.5in\;"><span style="font-size: 11pt\; font-family: calibri\, sans-serif\;">BUSINESS CARD RAFFLE!&nbsp\;</span></li>\n	<li class="m_-5274178760469621448gmail-m_6581572741167846660MsoListParagraph" style="font-family: &quot\;times new roman&quot\;\, serif\; font-size: 12pt\; margin: 0in 0in 0.0001pt 0.5in\;"><span style="font-size: 11pt\; font-family: calibri\, sans-serif\;">This month&#39\;s appetizer&nbsp\;sponsor:<strong> The Repair Tech</strong></span></li>\n</ul>\n
LOCATION:The Villa On Grand 117 W. Grand Ave Escondido\, CA 92025
UID:e.799.8764
SEQUENCE:3
DTSTAMP:20260422T002748Z
URL:https://business.escondidochamber.org/events/details/young-professionals-mixer-friendsgiving-business-philanthropy-8764
END:VEVENT

END:VCALENDAR
