BEGIN:VCALENDAR
VERSION:2.0
PRODID:-//ChamberMaster//Event Calendar 2.0//EN
METHOD:PUBLISH
X-PUBLISHED-TTL:P3D
REFRESH-INTERVAL:P3D
CALSCALE:GREGORIAN
BEGIN:VEVENT
DTSTART:20260318T000000Z
DTEND:20260318T020000Z
X-MICROSOFT-CDO-ALLDAYEVENT:FALSE
SUMMARY:Young Professionals Mixer: Keys To Wealth
DESCRIPTION:Keys To Wealth\n\nReady to learn how real estate can help you build assets and create long-term wealth?\n\nJoin us for our March Young Professionals Mixer and hear directly from local experts on buying your first property\, investing smart\, and turning real estate into opportunity.\n\n   Panel discussion\n\n   Live Q&A\n\n   Networking\n\n   Real-world strategies\n\n  5 7 PM\n\n  North Island Credit Union 1230 Auto Park Way Escondido\, CA 92029\n\nUnlock opportunities\, Own your future!
X-ALT-DESC;FMTTYPE=text/html:<p data-end="2707" data-start="2684">&#127968\; <strong data-end="2705" data-start="2687">Keys To Wealth</strong></p>\n\n<p data-end="2794" data-start="2709">Ready to learn how real estate can help you build assets and create long-term wealth?</p>\n\n<p data-end="2970" data-start="2796">Join us for our March Young Professionals Mixer and hear directly from local experts on buying your first property\, investing smart\, and turning real estate into opportunity.</p>\n\n<p data-end="3050" data-start="2972">&#10004\;&#65039\; Panel discussion<br data-end="2994" data-start="2991" />\n&#10004\;&#65039\; Live Q&amp\;A<br data-end="3008" data-start="3005" />\n&#10004\;&#65039\; Networking<br data-end="3024" data-start="3021" />\n&#10004\;&#65039\; Real-world strategies</p>\n\n<p data-end="3098" data-start="3052">&#128467\; 5&ndash\;7 PM<br data-end="3064" data-start="3061" />\n&#128205\; North Island Credit Union 1230 Auto Park Way Escondido\, CA 92029</p>\n\n<p data-end="3138" data-start="3100">Unlock opportunities\, Own your future!</p>\n
LOCATION:North Island Credit Union 1230 Auto Parkway Escondido\, CA 92029
UID:e.799.9559
SEQUENCE:3
DTSTAMP:20260424T183245Z
URL:https://business.escondidochamber.org/events/details/young-professionals-mixer-keys-to-wealth-9559
END:VEVENT

END:VCALENDAR
